{"text_format":"3","workbook":"xlsx","n_sheets":2,"sheets":["Sheet1","Sheet2"],"not_rendered":{"external_links":1,"defined_names":1},"read":"whole","date_system":"1900"}

{"sheet":"Sheet1","index":0,"n_rows":555,"n_cols":8,"rows_kept":555,"merged":[[0,0,0,7]]}
["CSSCI（2017-2018）收录来源期刊目录（共 553 种,按刊名音序分学科排序） "]
["序号","学科序号","期刊名称","主办（管）单位","ISSN","CN号","学科","备注"]
[1,"21-1","当代世界社会主义问题","山东大学当代社会主义研究所",{"$f":"VLOOKUP(C3,'[1]CSSCI（2014-2015）来源期刊目录'!$B$2:$F$534,5,0)","v":"1001-5574"},"37-1065/D","马克思主义理论（21种）","《理论视野》删除"]
[2,"21-2","当代世界与社会主义","中共中央编译局",{"$f":"VLOOKUP(C4,'[1]CSSCI（2014-2015）来源期刊目录'!$B$2:$F$534,5,0)","v":"1005-6505"},"11-3404/D","马克思主义理论（21种）"]
[3,"21-3","党的文献","中共中央文献研究室、中央档案馆","1005-1597","11-1359/D","马克思主义理论（21种）","新增"]
[4,"21-4","党建","中共中央宣传部","1002-9702","11-1612/D","马克思主义理论（21种）","新增"]
[5,"21-5","党史研究与教学","中共福建省委党校、福建省中共党史学会",{"$f":"VLOOKUP(C7,'[1]CSSCI（2014-2015）来源期刊目录'!$B$2:$F$534,5,0)","v":"1003-708X"},"35-1059/A","马克思主义理论（21种）"]
[6,"21-6","国外理论动态","中共中央编译局",{"$f":"VLOOKUP(C8,'[1]CSSCI（2014-2015）来源期刊目录'!$B$2:$F$534,5,0)","v":"1674-1277"},"11-4507/D","马克思主义理论（21种）"]
[7,"21-7","红旗文稿","求是杂志社",{"$f":"VLOOKUP(C9,'[1]CSSCI（2014-2015）来源期刊目录'!$B$2:$F$534,5,0)","v":"2095-1817"},"11-4904/D","马克思主义理论（21种）"]
[8,"21-8","教学与研究","中国人民大学11-1454/G4",{"$f":"VLOOKUP(C10,'[1]CSSCI（2014-2015）来源期刊目录'!$B$2:$F$534,5,0)","v":"0257-2826"},"11-1454/G4","马克思主义理论（21种）"]
[9,"21-9","科学社会主义","中国科学社会主义学会",{"$f":"VLOOKUP(C11,'[1]CSSCI（2014-2015）来源期刊目录'!$B$2:$F$534,5,0)","v":"1002-1493"},"11-2797/D","马克思主义理论（21种）"]
[10,"21-10","马克思主义理论学科研究","高等教育出版社","2096-1138","10-1351/A","马克思主义理论（21种）","新增"]
[11,"21-11","马克思主义研究","马克思主义研究院马克思主义研究学部",{"$f":"VLOOKUP(C13,'[1]CSSCI（2014-2015）来源期刊目录'!$B$2:$F$534,5,0)","v":"1006-5199"},"11-3591/A","马克思主义理论（21种）"]
[12,"21-12","马克思主义与现实","中共中央编译局",{"$f":"VLOOKUP(C14,'[1]CSSCI（2014-2015）来源期刊目录'!$B$2:$F$534,5,0)","v":"1004-5961"},"11-3040/A","马克思主义理论（21种）"]
[13,"21-13","毛泽东邓小平理论研究","上海社会科学院等",{"$f":"VLOOKUP(C15,'[1]CSSCI（2014-2015）来源期刊目录'!$B$2:$F$534,5,0)","v":"1005-8273"},"31-1672/A","马克思主义理论（21种）"]
[14,"21-14","南京政治学院学报","解放军南京政治学院","1001-9774","32-1002/D","马克思主义理论（21种）","新增"]
[15,"21-15","求是","中国共产党中央委员会",{"$f":"VLOOKUP(C17,'[1]CSSCI（2014-2015）来源期刊目录'!$B$2:$F$534,5,0)","v":"1002-4980"},"11-1000/D","马克思主义理论（21种）"]
[16,"21-16","社会主义研究","华中师范大学",{"$f":"VLOOKUP(C18,'[1]CSSCI（2014-2015）来源期刊目录'!$B$2:$F$534,5,0)","v":"1001-4527"},"42-1093/D","马克思主义理论（21种）"]
[17,"21-17","思想教育研究","全国高等学校思想政治教育研究会等","1002-5707","11-2549/D","马克思主义理论（21种）","新增"]
[18,"21-18","思想理论教育","上海市高等学校思想理论教育研究会等","1007-192X","31-1220/G4","马克思主义理论（21种）","新增"]
[19,"21-19","思想理论教育导刊","高等教育出版社",{"$f":"VLOOKUP(C21,'[1]CSSCI（2014-2015）来源期刊目录'!$B$2:$F$534,5,0)","v":"1009-2528"},"11-4062/G4","马克思主义理论（21种）"]
[20,"21-20","中共党史研究","中共党史研究室",{"$f":"VLOOKUP(C22,'[1]CSSCI（2014-2015）来源期刊目录'!$B$2:$F$534,5,0)","v":"1003-3815"},"11-1675/D","马克思主义理论（21种）"]
[21,"21-21","中国特色社会主义研究","北京市社会科学界联合会等",{"$f":"VLOOKUP(C23,'[1]CSSCI（2014-2015）来源期刊目录'!$B$2:$F$534,5,0)","v":"1006-6470"},"11-3527/D","马克思主义理论（21种）"]
[22,"29-1","公共管理学报","哈尔滨工业大学管理学院",{"$f":"VLOOKUP(C24,'[1]CSSCI（2014-2015）来源期刊目录'!$B$2:$F$534,5,0)","v":"1672-6162"},"23-1523/F","管理学（29种）","《科技管理研究》、《中国科学基金》去除"]
[23,"29-2","管理工程学报","浙江大学",{"$f":"VLOOKUP(C25,'[1]CSSCI（2014-2015）来源期刊目录'!$B$2:$F$534,5,0)","v":"1004-6062"},"33-1136/N","管理学（29种）"]
[24,"29-3","管理科学","哈尔滨工业大学管理学院",{"$f":"VLOOKUP(C26,'[1]CSSCI（2014-2015）来源期刊目录'!$B$2:$F$534,5,0)","v":"1672-0334"},"23-1510/C","管理学（29种）"]
[25,"29-4","管理科学学报","国家自然科学基金委员会管理科学部等",{"$f":"VLOOKUP(C27,'[1]CSSCI（2014-2015）来源期刊目录'!$B$2:$F$534,5,0)","v":"1007-9807"},"12-1275/G3","管理学（29种）"]
[26,"29-5","管理评论","中国科学院大学",{"$f":"VLOOKUP(C28,'[1]CSSCI（2014-2015）来源期刊目录'!$B$2:$F$534,5,0)","v":"1003-1952"},"11-5057/F","管理学（29种）"]
[27,"29-6","管理世界","中华人民共和国国务院发展研究中心",{"$f":"VLOOKUP(C29,'[1]CSSCI（2014-2015）来源期刊目录'!$B$2:$F$534,5,0)","v":"1002-5502"},"11-1235/F","管理学（29种）"]
[28,"29-7","管理学报","华中科技大学",{"$f":"VLOOKUP(C30,'[1]CSSCI（2014-2015）来源期刊目录'!$B$2:$F$534,5,0)","v":"1672-884X"},"42-1725/C","管理学（29种）"]
[29,"29-8","华东经济管理","安徽经济管理学院",{"$f":"VLOOKUP(C31,'[1]CSSCI（2014-2015）来源期刊目录'!$B$2:$F$534,5,0)","v":"1007-5097"},"34-1014/F","管理学（29种）"]
[30,"29-9","经济管理","中国社会科学院工业经济研究所",{"$f":"VLOOKUP(C32,'[1]CSSCI（2014-2015）来源期刊目录'!$B$2:$F$534,5,0)","v":"1002-5766"},"11-1047/F","管理学（29种）"]
[31,"29-10","经济体制改革","四川省社会科学院",{"$f":"VLOOKUP(C33,'[1]CSSCI（2014-2015）来源期刊目录'!$B$2:$F$534,5,0)","v":"1006-012X"},"51-1027/F","管理学（29种）"]
[32,"29-11","科技进步与对策","湖北省科技信息研究院",{"$f":"VLOOKUP(C34,'[1]CSSCI（2014-2015）来源期刊目录'!$B$2:$F$534,5,0)","v":"1001-7348"},"42-1224/G3","管理学（29种）"]
[33,"29-12","科学管理研究","内蒙古自治区软科学研究会",{"$f":"VLOOKUP(C35,'[1]CSSCI（2014-2015）来源期刊目录'!$B$2:$F$534,5,0)","v":"1004-115X"},"15-1103/G3","管理学（29种）"]
[34,"29-13","科学决策","中国社会经济系统分析研究会等","1006-4885","11-3472/G3","管理学（29种）","新增"]
[35,"29-14","科学学研究","中国科学学与科技政策研究会",{"$f":"VLOOKUP(C37,'[1]CSSCI（2014-2015）来源期刊目录'!$B$2:$F$534,5,0)","v":"1003-2053"},"11-1805/G3","管理学（29种）"]
[36,"29-15","科学学与科学技术管理","中国科学学与科技政策研究会等",{"$f":"VLOOKUP(C38,'[1]CSSCI（2014-2015）来源期刊目录'!$B$2:$F$534,5,0)","v":"1002-0241"},"12-1117/G3","管理学（29种）"]
[37,"29-16","科研管理","中国科学院科技政策与管理科学研究所等",{"$f":"VLOOKUP(C39,'[1]CSSCI（2014-2015）来源期刊目录'!$B$2:$F$534,5,0)","v":"1000-2995"},"11-1567/G3","管理学（29种）"]
[38,"29-17","南开管理评论","南开大学商学院",{"$f":"VLOOKUP(C40,'[1]CSSCI（2014-2015）来源期刊目录'!$B$2:$F$534,5,0)","v":"1008-3448"},"12-1288/F","管理学（29种）"]
[39,"29-18","软科学","四川省科技促进发展研究中心",{"$f":"VLOOKUP(C41,'[1]CSSCI（2014-2015）来源期刊目录'!$B$2:$F$534,5,0)","v":"1001—8409"},"51-1268/G3","管理学（29种）"]
[40,"29-19","社会保障评论","中国社会保障学会","2096-3211","10-1472/C","管理学（29种）","新增"]
[41,"29-20","外国经济与管理","上海财经大学",{"$f":"VLOOKUP(C43,'[1]CSSCI（2014-2015）来源期刊目录'!$B$2:$F$534,5,0)","v":"1001-4950"},"31-1063/F","管理学（29种）"]
[42,"29-21","系统工程","湖南省系统工程与管理学会",{"$f":"VLOOKUP(C44,'[1]CSSCI（2014-2015）来源期刊目录'!$B$2:$F$534,5,0)","v":"1001-4098"},"43-1115/N","管理学（29种）"]
[43,"29-22","系统工程理论与实践","中国系统工程学会",{"$f":"VLOOKUP(C45,'[1]CSSCI（2014-2015）来源期刊目录'!$B$2:$F$534,5,0)","v":"1000-6788"},"11-2267/N","管理学（29种）"]
[44,"29-23","系统管理学报","上海交通大学",{"$f":"VLOOKUP(C46,'[1]CSSCI（2014-2015）来源期刊目录'!$B$2:$F$534,5,0)","v":"1005-2542"},"31-1977/N","管理学（29种）"]
[45,"29-24","研究与发展管理","复旦大学",{"$f":"VLOOKUP(C47,'[1]CSSCI（2014-2015）来源期刊目录'!$B$2:$F$534,5,0)","v":"1004-8308"},"31-1599/G3","管理学（29种）"]
[46,"29-25","预测","合肥工业大学预测与发展研究所",{"$f":"VLOOKUP(C48,'[1]CSSCI（2014-2015）来源期刊目录'!$B$2:$F$534,5,0)","v":"1003-5192"},"34-1013/N","管理学（29种）"]
[47,"29-26","中国管理科学","中国科学院科技政策与管理科学研究所等",{"$f":"VLOOKUP(C49,'[1]CSSCI（2014-2015）来源期刊目录'!$B$2:$F$534,5,0)","v":"1003-207X"},"11-2835/G3","管理学（29种）"]
[48,"29-27","中国行政管理","中国行政管理学会",{"$f":"VLOOKUP(C50,'[1]CSSCI（2014-2015）来源期刊目录'!$B$2:$F$534,5,0)","v":"1006-0863"},"11-1145/D","管理学（29种）"]
[49,"29-28","中国科技论坛","中国科学技术发展战略研究院",{"$f":"VLOOKUP(C51,'[1]CSSCI（2014-2015）来源期刊目录'!$B$2:$F$534,5,0)","v":"1002-6711"},"11-1344/G3","管理学（29种）"]
[50,"29-29","中国软科学","中国软科学研究会",{"$f":"VLOOKUP(C52,'[1]CSSCI（2014-2015）来源期刊目录'!$B$2:$F$534,5,0)","v":"1002-9753"},"11-3036/G3","管理学（29种）"]
[51,"13-1","道德与文明","中国伦理学会、天津社会科学院",{"$f":"VLOOKUP(C53,'[1]CSSCI（2014-2015）来源期刊目录'!$B$2:$F$534,5,0)","v":"1007-1539"},"12-1029/B","哲学（13种）"]
[52,"13-2","科学技术哲学研究","山西大学、山西省自然辩证法研究会",{"$f":"VLOOKUP(C54,'[1]CSSCI（2014-2015）来源期刊目录'!$B$2:$F$534,5,0)","v":"1674-7062"},"14-1354/G3","哲学（13种）"]
[53,"13-3","孔子研究","中国孔子基金会",{"$f":"VLOOKUP(C55,'[1]CSSCI（2014-2015）来源期刊目录'!$B$2:$F$534,5,0)","v":"1002-2627"},"37-1037/C","哲学（13种）"]
[54,"13-4","伦理学研究","湖南师范大学伦理学研究所",{"$f":"VLOOKUP(C56,'[1]CSSCI（2014-2015）来源期刊目录'!$B$2:$F$534,5,0)","v":"1671-9115"},"43-1385/C","哲学（13种）"]
[55,"13-5","逻辑学研究","中山大学","1674-3202","44-1649/C","哲学（13种）","新增"]
[56,"13-6","世界哲学","中国社会科学院哲学研究所",{"$f":"VLOOKUP(C58,'[1]CSSCI（2014-2015）来源期刊目录'!$B$2:$F$534,5,0)","v":"1671-4318"},"11-4748/B","哲学（13种）"]
[57,"13-7","现代哲学","广东哲学学会",{"$f":"VLOOKUP(C59,'[1]CSSCI（2014-2015）来源期刊目录'!$B$2:$F$534,5,0)","v":"1000-7660"},"44-1071/B","哲学（13种）"]
[58,"13-8","哲学动态","中国社会科学院哲学研究所",{"$f":"VLOOKUP(C60,'[1]CSSCI（2014-2015）来源期刊目录'!$B$2:$F$534,5,0)","v":"1002-8862"},"11-1141/B","哲学（13种）"]
[59,"13-9","哲学研究","中国社会科学院哲学研究所",{"$f":"VLOOKUP(C61,'[1]CSSCI（2014-2015）来源期刊目录'!$B$2:$F$534,5,0)","v":"1000-0216"},"11-1140/B","哲学（13种）"]
[60,"13-10","中国哲学史","中国哲学史学会",{"$f":"VLOOKUP(C62,'[1]CSSCI（2014-2015）来源期刊目录'!$B$2:$F$534,5,0)","v":"1005-0396"},"11-3042/B","哲学（13种）"]
[61,"13-11","周易研究","山东大学、中国周易学会",{"$f":"VLOOKUP(C63,'[1]CSSCI（2014-2015）来源期刊目录'!$B$2:$F$534,5,0)","v":"1003-3882"},"37-1191/C","哲学（13种）"]
[62,"13-12","自然辩证法通讯","中国科学院大学",{"$f":"VLOOKUP(C64,'[1]CSSCI（2014-2015）来源期刊目录'!$B$2:$F$534,5,0)","v":"1000-0763"},"11-1518/N","哲学（13种）"]
[63,"13-13","自然辩证法研究","中国自然辩证法研究会",{"$f":"VLOOKUP(C65,'[1]CSSCI（2014-2015）来源期刊目录'!$B$2:$F$534,5,0)","v":"1000-8934"},"11-1649/B","哲学（13种）"]
[64,"3-1","世界宗教文化","中国社会科学院世界宗教研究所",{"$f":"VLOOKUP(C66,'[1]CSSCI（2014-2015）来源期刊目录'!$B$2:$F$534,5,0)","v":"1007-6255"},"11-3631/B","宗教学（3种）"]
[65,"3-2","世界宗教研究","中国社会科学院世界宗教研究所",{"$f":"VLOOKUP(C67,'[1]CSSCI（2014-2015）来源期刊目录'!$B$2:$F$534,5,0)","v":"1000-4289"},"11-1299/B","宗教学（3种）"]
[66,"3-3","宗教学研究","四川大学道教与宗教文化研究所",{"$f":"VLOOKUP(C68,'[1]CSSCI（2014-2015）来源期刊目录'!$B$2:$F$534,5,0)","v":"1006-1312"},"51-1069/B","宗教学（3种）"]
[67,"24-1","当代修辞学","复旦大学",{"$f":"VLOOKUP(C69,'[1]CSSCI（2014-2015）来源期刊目录'!$B$2:$F$534,5,0)","v":"1674-8026"},"31-2043/H","语言学（24种）","《外语学刊》去除"]
[68,"24-2","当代语言学","中国社会科学院语言研究所",{"$f":"VLOOKUP(C70,'[1]CSSCI（2014-2015）来源期刊目录'!$B$2:$F$534,5,0)","v":"1007-8274"},"11-3879/H","语言学（24种）"]
[69,"24-3","方言","中国社会科学院语言研究所",{"$f":"VLOOKUP(C71,'[1]CSSCI（2014-2015）来源期刊目录'!$B$2:$F$534,5,0)","v":"0257-0203"},"11-1052/H","语言学（24种）"]
[70,"24-4","古汉语研究","湖南师范大学","1001-5442","43-1145/H","语言学（24种）","新增"]
[71,"24-5","汉语学报","华中师范大学",{"$f":"VLOOKUP(C73,'[1]CSSCI（2014-2015）来源期刊目录'!$B$2:$F$534,5,0)","v":"1672-9501"},"42-1729/H","语言学（24种）"]
[72,"24-6","民族语文","中国社会科学院民族学与人类学研究所",{"$f":"VLOOKUP(C74,'[1]CSSCI（2014-2015）来源期刊目录'!$B$2:$F$534,5,0)","v":"0257-5779"},"11-1216/H","语言学（24种）"]
[73,"24-7","世界汉语教学","北京语言大学",{"$f":"VLOOKUP(C75,'[1]CSSCI（2014-2015）来源期刊目录'!$B$2:$F$534,5,0)","v":"1002-5804"},"11-1473/H","语言学（24种）"]
[74,"24-8","外国语","上海外国语大学",{"$f":"VLOOKUP(C76,'[1]CSSCI（2014-2015）来源期刊目录'!$B$2:$F$534,5,0)","v":"1004-5139"},"31-1038/H","语言学（24种）"]
[75,"24-9","外语电化教学","上海外国语大学",{"$f":"VLOOKUP(C77,'[1]CSSCI（2014-2015）来源期刊目录'!$B$2:$F$534,5,0)","v":"1001-5795"},"31-1036/G4","语言学（24种）"]
[76,"24-10","外语教学","西安外国语大学",{"$f":"VLOOKUP(C78,'[1]CSSCI（2014-2015）来源期刊目录'!$B$2:$F$534,5,0)","v":"1000-5544"},"61-1023/H","语言学（24种）"]
[77,"24-11","外语教学理论与实践","华东师范大学外语学院",{"$f":"VLOOKUP(C79,'[1]CSSCI（2014-2015）来源期刊目录'!$B$2:$F$534,5,0)","v":"1674-1234"},"31-1964/H","语言学（24种）"]
[78,"24-12","外语教学与研究","北京外国语大学",{"$f":"VLOOKUP(C80,'[1]CSSCI（2014-2015）来源期刊目录'!$B$2:$F$534,5,0)","v":"1000-0429"},"11-1251/G4","语言学（24种）"]
[79,"24-13","外语界","上海外国语大学",{"$f":"VLOOKUP(C81,'[1]CSSCI（2014-2015）来源期刊目录'!$B$2:$F$534,5,0)","v":"1004-5112"},"31-1040/H","语言学（24种）"]
[80,"24-14","外语研究","中国人民解放军国际关系学院","1005-7242","32-1001/H","语言学（24种）","新增"]
[81,"24-15","外语与外语教学","大连外国语大学",{"$f":"VLOOKUP(C83,'[1]CSSCI（2014-2015）来源期刊目录'!$B$2:$F$534,5,0)","v":"1004-6038"},"21-1060/H","语言学（24种）"]
[82,"24-16","现代外语","广东外语外贸大学",{"$f":"VLOOKUP(C84,'[1]CSSCI（2014-2015）来源期刊目录'!$B$2:$F$534,5,0)","v":"1003-6105"},"44-1165/H","语言学（24种）"]
[83,"24-17","语文研究","山西省社会科学院",{"$f":"VLOOKUP(C85,'[1]CSSCI（2014-2015）来源期刊目录'!$B$2:$F$534,5,0)","v":"1000-2979"},"14-1059/H","语言学（24种）"]
[84,"24-18","语言教学与研究","北京语言大学",{"$f":"VLOOKUP(C86,'[1]CSSCI（2014-2015）来源期刊目录'!$B$2:$F$534,5,0)","v":"0257-9448"},"11-1472/H","语言学（24种）"]
[85,"24-19","语言科学","江苏师范大学语言研究所",{"$f":"VLOOKUP(C87,'[1]CSSCI（2014-2015）来源期刊目录'!$B$2:$F$534,5,0)","v":"1671-9484"},"32-1687/G","语言学（24种）"]
[86,"24-20","语言文字应用","教育部语言文字应用研究所",{"$f":"VLOOKUP(C88,'[1]CSSCI（2014-2015）来源期刊目录'!$B$2:$F$534,5,0)","v":"1003-5397"},"11-2888/H","语言学（24种）"]
[87,"24-21","语言研究","华中科技大学中国语言研究所",{"$f":"VLOOKUP(C89,'[1]CSSCI（2014-2015）来源期刊目录'!$B$2:$F$534,5,0)","v":"1000-1263"},"42-1025/H","语言学（24种）"]
[88,"24-22","中国翻译","中国外文局对外传播研究中心等",{"$f":"VLOOKUP(C90,'[1]CSSCI（2014-2015）来源期刊目录'!$B$2:$F$534,5,0)","v":"1000-873X"},"11-1354/H","语言学（24种）"]
[89,"24-23","中国外语","高等教育出版社",{"$f":"VLOOKUP(C91,'[1]CSSCI（2014-2015）来源期刊目录'!$B$2:$F$534,5,0)","v":"1672-9382"},"11-5280/H","语言学（24种）"]
[90,"24-24","中国语文","中国社会科学院语言研究所",{"$f":"VLOOKUP(C92,'[1]CSSCI（2014-2015）来源期刊目录'!$B$2:$F$534,5,0)","v":"0578-1949"},"11-1053/H","语言学（24种）"]
[91,"6-1","当代外国文学","南京大学外国文学研究所",{"$f":"VLOOKUP(C93,'[1]CSSCI（2014-2015）来源期刊目录'!$B$2:$F$534,5,0)","v":"1001-1757"},"32-1087/I","外国文学（6种）"]
[92,"6-2","俄罗斯文艺","北京师范大学",{"$f":"VLOOKUP(C94,'[1]CSSCI（2014-2015）来源期刊目录'!$B$2:$F$534,5,0)","v":"1005-7684"},"11-5702/I","外国文学（6种）"]
[93,"6-3","国外文学","北京大学",{"$f":"VLOOKUP(C95,'[1]CSSCI（2014-2015）来源期刊目录'!$B$2:$F$534,5,0)","v":"1002-5014"},"11-1562/I","外国文学（6种）"]
[94,"6-4","外国文学","北京外国语大学",{"$f":"VLOOKUP(C96,'[1]CSSCI（2014-2015）来源期刊目录'!$B$2:$F$534,5,0)","v":"1002-5529"},"11-1248/I","外国文学（6种）"]
[95,"6-5","外国文学评论","中国社会科学院外国文学研究所",{"$f":"VLOOKUP(C97,'[1]CSSCI（2014-2015）来源期刊目录'!$B$2:$F$534,5,0)","v":"1001-6368"},"11-1068/I","外国文学（6种）"]
[96,"6-6","外国文学研究","华中师范大学文学院",{"$f":"VLOOKUP(C98,'[1]CSSCI（2014-2015）来源期刊目录'!$B$2:$F$534,5,0)","v":"1003-7519"},"42-1060/I","外国文学（6种）"]
[97,"16-1","当代作家评论","辽宁省作家协会",{"$f":"VLOOKUP(C99,'[1]CSSCI（2014-2015）来源期刊目录'!$B$2:$F$534,5,0)","v":"1002-1809"},"21-1046/I","中国文学（16种）","《当代文坛》《红楼梦学刊》"]
[98,"16-2","鲁迅研究月刊","北京鲁迅博物馆",{"$f":"VLOOKUP(C100,'[1]CSSCI（2014-2015）来源期刊目录'!$B$2:$F$534,5,0)","v":"1003-0638"},"11-2722/I","中国文学（16种）"]
[99,"16-3","民族文学研究","中国社会科学院民族文学研究所",{"$f":"VLOOKUP(C101,'[1]CSSCI（2014-2015）来源期刊目录'!$B$2:$F$534,5,0)","v":"1002-9559"},"11-1443/I","中国文学（16种）"]
[100,"16-4","明清小说研究","江苏省社会科学院文学研究所等","1004-3330","32-1017/I","中国文学（16种）","新增"]
[101,"16-5","南方文坛","广西文联",{"$f":"VLOOKUP(C103,'[1]CSSCI（2014-2015）来源期刊目录'!$B$2:$F$534,5,0)","v":"1003-7772"},"45-1049/I","中国文学（16种）"]
[102,"16-6","文学评论","中国社会科学院文学研究所",{"$f":"VLOOKUP(C104,'[1]CSSCI（2014-2015）来源期刊目录'!$B$2:$F$534,5,0)","v":"0511-4683"},"11-1037","中国文学（16种）"]
[103,"16-7","文学遗产","中国社会科学院文学研究所",{"$f":"VLOOKUP(C105,'[1]CSSCI（2014-2015）来源期刊目录'!$B$2:$F$534,5,0)","v":"0257-5914"},"11-1009/I","中国文学（16种）"]
[104,"16-8","文艺理论研究","中国文艺理论学会、华东师范大学",{"$f":"VLOOKUP(C106,'[1]CSSCI（2014-2015）来源期刊目录'!$B$2:$F$534,5,0)","v":"0257-0254"},"31-1152/I","中国文学（16种）"]
[105,"16-9","文艺理论与批评","中国艺术研究院",{"$f":"VLOOKUP(C107,'[1]CSSCI（2014-2015）来源期刊目录'!$B$2:$F$534,5,0)","v":"1002-9583"},"11-1581/J","中国文学（16种）"]
[106,"16-10","文艺争鸣","吉林省文学艺术界联合会",{"$f":"VLOOKUP(C108,'[1]CSSCI（2014-2015）来源期刊目录'!$B$2:$F$534,5,0)","v":"1003-9538"},"22-1031/I","中国文学（16种）"]
[107,"16-11","小说评论","陕西省作家协会",{"$f":"VLOOKUP(C109,'[1]CSSCI（2014-2015）来源期刊目录'!$B$2:$F$534,5,0)","v":"1004-2164"},"61-1017/J","中国文学（16种）"]
[108,"16-12","新文学史料","人民文学出版社",{"$f":"VLOOKUP(C110,'[1]CSSCI（2014-2015）来源期刊目录'!$B$2:$F$534,5,0)","v":"0257-5647"},"11-1283/I","中国文学（16种）"]
[109,"16-13","扬子江评论","江苏省作家协会",{"$f":"VLOOKUP(C111,'[1]CSSCI（2014-2015）来源期刊目录'!$B$2:$F$534,5,0)","v":"1009-542X"},"32-1787/I","中国文学（16种）","另外一本《扬子江诗刊》同CN号，但是属于文学创作，不收录"]
[110,"16-14","中国比较文学","上海外国语大学、中国比较文学学会",{"$f":"VLOOKUP(C112,'[1]CSSCI（2014-2015）来源期刊目录'!$B$2:$F$534,5,0)","v":"1006-6101"},"31-1694/I","中国文学（16种）"]
[111,"16-15","中国文学研究","湖南师范大学","1003-7535","43-1084/I","中国文学（16种）","新增"]
[112,"16-16","中国现代文学研究丛刊","中国现代文学馆",{"$f":"VLOOKUP(C114,'[1]CSSCI（2014-2015）来源期刊目录'!$B$2:$F$534,5,0)","v":"1003-0263"},"11-2589/I","中国文学（16种）"]
[113,"22-1","北京电影学院学报","北京电影学院","1002-6142","11-1677/J","艺术学（22种）","新增"]
[114,"22-2","北京舞蹈学院学报","北京舞蹈学院",{"$f":"VLOOKUP(C116,'[1]CSSCI（2014-2015）来源期刊目录'!$B$2:$F$534,5,0)","v":"1008-2018"},"11-3982/J","艺术学（22种）","《美术观察》《戏剧》《装饰》去除"]
[115,"22-3","当代电影","中国电影艺术研究中心等",{"$f":"VLOOKUP(C117,'[1]CSSCI（2014-2015）来源期刊目录'!$B$2:$F$534,5,0)","v":"1002-4646"},"11-1447/G2","艺术学（22种）"]
[116,"22-4","电影艺术","中国电影家协会",{"$f":"VLOOKUP(C118,'[1]CSSCI（2014-2015）来源期刊目录'!$B$2:$F$534,5,0)","v":"0257-0181"},"11-1528/J","艺术学（22种）"]
[117,"22-5","建筑学报","中国建筑学会","0529-1399","11-1930/TU","艺术学（22种）","新增"]
[118,"22-6","美术","中国美术家协会","1003-1774","11-1311/J","艺术学（22种）","新增"]
[119,"22-7","美术研究","中央美术学院",{"$f":"VLOOKUP(C121,'[1]CSSCI（2014-2015）来源期刊目录'!$B$2:$F$534,5,0)","v":"0461-6855"},"11-1190/J","艺术学（22种）"]
[120,"22-8","民族艺术","广西民族文化艺术研究院",{"$f":"VLOOKUP(C122,'[1]CSSCI（2014-2015）来源期刊目录'!$B$2:$F$534,5,0)","v":"1003-2568"},"45-1052/J","艺术学（22种）"]
[121,"22-9","南京艺术学院学报（美术与设计版）","南京艺术学院",{"$f":"VLOOKUP(C123,'[1]CSSCI（2014-2015）来源期刊目录'!$B$2:$F$534,5,0)","v":"1008-9675"},"32-1008/J","艺术学（22种）"]
[122,"22-10","世界电影","中国电影家协会",{"$f":"VLOOKUP(C124,'[1]CSSCI（2014-2015）来源期刊目录'!$B$2:$F$534,5,0)","v":"1002-9966"},"11-2023/G2","艺术学（22种）"]
[123,"22-11","文艺研究","中国艺术研究院",{"$f":"VLOOKUP(C125,'[1]CSSCI（2014-2015）来源期刊目录'!$B$2:$F$534,5,0)","v":"0257-5876"},"11-1672/J","艺术学（22种）"]
[124,"22-12","戏剧艺术（上海戏剧学院学报）","上海戏剧学院",{"$f":"VLOOKUP(C126,'[1]CSSCI（2014-2015）来源期刊目录'!$B$2:$F$534,5,0)","v":"0257-943X"},"31-1140/J","艺术学（22种）"]
[125,"22-13","戏曲艺术","中国戏曲学院",{"$f":"VLOOKUP(C127,'[1]CSSCI（2014-2015）来源期刊目录'!$B$2:$F$534,5,0)","v":"1002-8927"},"11-1172/J","艺术学（22种）"]
[126,"22-14","新美术","中国美术学院",{"$f":"VLOOKUP(C128,'[1]CSSCI（2014-2015）来源期刊目录'!$B$2:$F$534,5,0)","v":"1674-2249"},"33-1068/J","艺术学（22种）"]
[127,"22-15","艺术百家","江苏省文化艺术研究院",{"$f":"VLOOKUP(C129,'[1]CSSCI（2014-2015）来源期刊目录'!$B$2:$F$534,5,0)","v":"1003-9104"},"32-1092/J","艺术学（22种）"]
[128,"22-16","艺术设计研究","北京服装学院","1674-7518","11-5869/J","艺术学（22种）","新增"]
[129,"22-17","音乐研究","人民音乐出版社有限公司",{"$f":"VLOOKUP(C131,'[1]CSSCI（2014-2015）来源期刊目录'!$B$2:$F$534,5,0)","v":"0512-7939"},"11-1665/J","艺术学（22种）"]
[130,"22-18","音乐艺术（上海音乐学院学报）","上海音乐学院",{"$f":"VLOOKUP(C132,'[1]CSSCI（2014-2015）来源期刊目录'!$B$2:$F$534,5,0)","v":"1000-4270"},"31-1004/J","艺术学（22种）"]
[131,"22-19","中国电视","中国电视艺术委员会",{"$f":"VLOOKUP(C133,'[1]CSSCI（2014-2015）来源期刊目录'!$B$2:$F$534,5,0)","v":"1002-4751"},"11-2750/J","艺术学（22种）"]
[132,"22-20","中国书法","中国书法家协会等",{"$f":"VLOOKUP(C134,'[1]CSSCI（2014-2015）来源期刊目录'!$B$2:$F$534,5,0)","v":"1003-1782\n"},"11-1136/J","艺术学（22种）"]
[133,"22-21","中国音乐学","中国艺术研究院",{"$f":"VLOOKUP(C135,'[1]CSSCI（2014-2015）来源期刊目录'!$B$2:$F$534,5,0)","v":"1003-0042"},"11-1316/J","艺术学（22种）"]
[134,"22-22","中央音乐学院学报","中央音乐学院",{"$f":"VLOOKUP(C136,'[1]CSSCI（2014-2015）来源期刊目录'!$B$2:$F$534,5,0)","v":"1001-9871"},"11-1183/J","艺术学（22种）"]
[135,"27-1","安徽史学","安徽省社会科学院",{"$f":"VLOOKUP(C137,'[1]CSSCI（2014-2015）来源期刊目录'!$B$2:$F$534,5,0)","v":"1005-605X"},"34-1008/K","历史学（27种）","《民国档案》《文献》去除"]
[136,"27-2","当代中国史研究","当代中国研究所",{"$f":"VLOOKUP(C138,'[1]CSSCI（2014-2015）来源期刊目录'!$B$2:$F$534,5,0)","v":"1005-4952"},"11-3200/K","历史学（27种）"]
[137,"27-3","东南文化","南京博物院",{"$f":"VLOOKUP(C139,'[1]CSSCI（2014-2015）来源期刊目录'!$B$2:$F$534,5,0)","v":"1001-179X"},"32-1096/K","历史学（27种）"]
[138,"27-4","古代文明","东北师范大学世界古典文明史研究所",{"$f":"VLOOKUP(C140,'[1]CSSCI（2014-2015）来源期刊目录'!$B$2:$F$534,5,0)","v":"1004-9371"},"22-1213/K","历史学（27种）"]
[139,"27-5","国际汉学","北京外国语大学","2095-9257","10-1272/K","历史学（27种）","新增"]
[140,"27-6","华侨华人历史研究","中国华侨华人历史研究所",{"$f":"VLOOKUP(C142,'[1]CSSCI（2014-2015）来源期刊目录'!$B$2:$F$534,5,0)","v":"1002-5162"},"11-1158/K","历史学（27种）"]
[141,"27-7","近代史研究","中国社会科学院近代史研究所",{"$f":"VLOOKUP(C143,'[1]CSSCI（2014-2015）来源期刊目录'!$B$2:$F$534,5,0)","v":"1001-6708"},"11-1215/K","历史学（27种）"]
[142,"27-8","抗日战争研究","中国社会科学院近代史研究所等",{"$f":"VLOOKUP(C144,'[1]CSSCI（2014-2015）来源期刊目录'!$B$2:$F$534,5,0)","v":"1002-9575"},"11-2890/K","历史学（27种）"]
[143,"27-9","历史档案","中国第一历史档案馆",{"$f":"VLOOKUP(C145,'[1]CSSCI（2014-2015）来源期刊目录'!$B$2:$F$534,5,0)","v":"1001-7755"},"11-1265/G2","历史学（27种）"]
[144,"27-10","历史教学","历史教学社",{"$f":"VLOOKUP(C146,'[1]CSSCI（2014-2015）来源期刊目录'!$B$2:$F$534,5,0)","v":"0457-6241"},"12-1010/G4","历史学（27种）"]
[145,"27-11","历史研究","中国社会科学院",{"$f":"VLOOKUP(C147,'[1]CSSCI（2014-2015）来源期刊目录'!$B$2:$F$534,5,0)","v":"0459-1909"},"11-1213/K","历史学（27种）"]
[146,"27-12","清史研究","中国人民大学清史研究所",{"$f":"VLOOKUP(C148,'[1]CSSCI（2014-2015）来源期刊目录'!$B$2:$F$534,5,0)","v":"1002-8587"},"11-2765/K","历史学（27种）"]
[147,"27-13","史林","上海社会科学院历史研究所",{"$f":"VLOOKUP(C149,'[1]CSSCI（2014-2015）来源期刊目录'!$B$2:$F$534,5,0)","v":"1007-1873"},"31-1105/K","历史学（27种）"]
[148,"27-14","史学集刊","吉林大学",{"$f":"VLOOKUP(C150,'[1]CSSCI（2014-2015）来源期刊目录'!$B$2:$F$534,5,0)","v":"0559-8095"},"22-1064/K","历史学（27种）"]
[149,"27-15","史学理论研究","中国社会科学院世界历史研究所",{"$f":"VLOOKUP(C151,'[1]CSSCI（2014-2015）来源期刊目录'!$B$2:$F$534,5,0)","v":"1004-0013"},"11-2934/K","历史学（27种）"]
[150,"27-16","史学史研究","北京师范大学历史学院史学研究所",{"$f":"VLOOKUP(C152,'[1]CSSCI（2014-2015）来源期刊目录'!$B$2:$F$534,5,0)","v":"1002-5332"},"11-1667/K","历史学（27种）"]
[151,"27-17","史学月刊","河南大学、河南省历史学会",{"$f":"VLOOKUP(C153,'[1]CSSCI（2014-2015）来源期刊目录'!$B$2:$F$534,5,0)","v":"0583-0214"},"41-1016/K","历史学（27种）"]
[152,"27-18","世界历史","中国社会科学院世界历史研究所",{"$f":"VLOOKUP(C154,'[1]CSSCI（2014-2015）来源期刊目录'!$B$2:$F$534,5,0)","v":"1002-011X"},"11-1046/K","历史学（27种）"]
[153,"27-19","文史","中华书局",{"$f":"VLOOKUP(C155,'[1]CSSCI（2014-2015）来源期刊目录'!$B$2:$F$534,5,0)","v":"0511-4713"},"11-1678/K","历史学（27种）"]
[154,"27-20","西域研究","新疆社会科学院",{"$f":"VLOOKUP(C156,'[1]CSSCI（2014-2015）来源期刊目录'!$B$2:$F$534,5,0)","v":"1002-4743"},"65-1121/C","历史学（27种）"]
[155,"27-21","中国边疆史地研究","中国社会科学院中国边疆研究所",{"$f":"VLOOKUP(C157,'[1]CSSCI（2014-2015）来源期刊目录'!$B$2:$F$534,5,0)","v":"1002-6800"},"11-2795/K","历史学（27种）"]
[156,"27-22","中国经济史研究","中国社会科学院经济研究所","1002-8005","11-1082/F","历史学（27种）","新增"]
[157,"27-23","中国历史地理论丛","陕西师范大学",{"$f":"VLOOKUP(C159,'[1]CSSCI（2014-2015）来源期刊目录'!$B$2:$F$534,5,0)","v":"1001-5205"},"61-1027/K","历史学（27种）"]
[158,"27-24","中国农史","中国农业历史学会等",{"$f":"VLOOKUP(C160,'[1]CSSCI（2014-2015）来源期刊目录'!$B$2:$F$534,5,0)","v":"1000-4459"},"32-1061/S","历史学（27种）"]
[159,"27-25","中国社会经济史研究","厦门大学历史研究所",{"$f":"VLOOKUP(C161,'[1]CSSCI（2014-2015）来源期刊目录'!$B$2:$F$534,5,0)","v":"1000-422X"},"35-1023/F","历史学（27种）","从经济学调整到历史学"]
[160,"27-26","中国史研究","中国社会科学院历史研究所",{"$f":"VLOOKUP(C162,'[1]CSSCI（2014-2015）来源期刊目录'!$B$2:$F$534,5,0)","v":"1002-7963"},"11-1039/K","历史学（27种）"]
[161,"27-27","中华文史论丛","上海古籍出版社",{"$f":"VLOOKUP(C163,'[1]CSSCI（2014-2015）来源期刊目录'!$B$2:$F$534,5,0)","v":"1002-0039"},"31-1984/K","历史学（27种）"]
[162,"7-1","敦煌学辑刊","兰州大学","1001-6252","62-1027/K","考古学（7种）","新增"]
[163,"7-2","故宫博物院院刊","故宫博物院",{"$f":"VLOOKUP(C165,'[1]CSSCI（2014-2015）来源期刊目录'!$B$2:$F$534,5,0)","v":"0452-7402"},"11-1202/G2","考古学（7种）","《敦煌研究》"]
[164,"7-3","江汉考古","湖北省文物考古研究所",{"$f":"VLOOKUP(C166,'[1]CSSCI（2014-2015）来源期刊目录'!$B$2:$F$534,5,0)","v":"1001-0327"},"42-1077/K","考古学（7种）"]
[165,"7-4","考古","中国社会科学院考古研究所",{"$f":"VLOOKUP(C167,'[1]CSSCI（2014-2015）来源期刊目录'!$B$2:$F$534,5,0)","v":"0435-2899"},"11-1208","考古学（7种）"]
[166,"7-5","考古学报","中国社会科学院考古研究所",{"$f":"VLOOKUP(C168,'[1]CSSCI（2014-2015）来源期刊目录'!$B$2:$F$534,5,0)","v":"0453-2902"},"11-1209","考古学（7种）"]
[167,"7-6","考古与文物","陕西省考古研究院",{"$f":"VLOOKUP(C169,'[1]CSSCI（2014-2015）来源期刊目录'!$B$2:$F$534,5,0)","v":"1000-7830"},"61-1010/K","考古学（7种）"]
[168,"7-7","文物","文物出版社",{"$f":"VLOOKUP(C170,'[1]CSSCI（2014-2015）来源期刊目录'!$B$2:$F$534,5,0)","v":"0511-4772"},"11-1532/K","考古学（7种）"]
[169,"75-1","保险研究","中国保险学会","1004-3306","11-1632/F","经济学（75种）","新增"]
[170,"75-2","财经科学","西南财经大学",{"$f":"VLOOKUP(C172,'[1]CSSCI（2014-2015）来源期刊目录'!$B$2:$F$534,5,0)","v":"1000-8306"},"51-1104/F","经济学（75种）","《价格理论与实践》去除，《城市发展研究》《城市问题》调整为人文经济地理，《中国社会经济史研究》调整为历史学"]
[171,"75-3","财经理论与实践","湖南大学",{"$f":"VLOOKUP(C173,'[1]CSSCI（2014-2015）来源期刊目录'!$B$2:$F$534,5,0)","v":"1003-7217"},"43-1057/F","经济学（75种）"]
[172,"75-4","财经论丛","浙江财经大学",{"$f":"VLOOKUP(C174,'[1]CSSCI（2014-2015）来源期刊目录'!$B$2:$F$534,5,0)","v":"1004-4892"},"33-1388/F","经济学（75种）"]
[173,"75-5","财经问题研究","东北财经大学",{"$f":"VLOOKUP(C175,'[1]CSSCI（2014-2015）来源期刊目录'!$B$2:$F$534,5,0)","v":"1000-176X"},"21-1096/F","经济学（75种）"]
[174,"75-6","财经研究","上海财经大学",{"$f":"VLOOKUP(C176,'[1]CSSCI（2014-2015）来源期刊目录'!$B$2:$F$534,5,0)","v":"1001-9952"},"31-1012/F","经济学（75种）"]
[175,"75-7","财贸经济","中国社会科学院财经战略研究院",{"$f":"VLOOKUP(C177,'[1]CSSCI（2014-2015）来源期刊目录'!$B$2:$F$534,5,0)","v":"1002-8102"},"11-1166/F","经济学（75种）"]
[176,"75-8","财贸研究","安徽财经大学",{"$f":"VLOOKUP(C178,'[1]CSSCI（2014-2015）来源期刊目录'!$B$2:$F$534,5,0)","v":"1001-6260"},"34-1093/F","经济学（75种）"]
[177,"75-9","财政研究","中国财政学会",{"$f":"VLOOKUP(C179,'[1]CSSCI（2014-2015）来源期刊目录'!$B$2:$F$534,5,0)","v":"1003-2878"},"11-1077/F","经济学（75种）"]
[178,"75-10","产业经济研究","南京财经大学",{"$f":"VLOOKUP(C180,'[1]CSSCI（2014-2015）来源期刊目录'!$B$2:$F$534,5,0)","v":"1671-9301"},"32-1683/F","经济学（75种）"]
[179,"75-11","当代财经","江西财经大学",{"$f":"VLOOKUP(C181,'[1]CSSCI（2014-2015）来源期刊目录'!$B$2:$F$534,5,0)","v":"1005-0892"},"36-1030/F","经济学（75种）"]
[180,"75-12","当代经济科学","西安交通大学",{"$f":"VLOOKUP(C182,'[1]CSSCI（2014-2015）来源期刊目录'!$B$2:$F$534,5,0)","v":"1002-2848"},"61-1400/F","经济学（75种）"]
[181,"75-13","当代经济研究","吉林财经大学",{"$f":"VLOOKUP(C183,'[1]CSSCI（2014-2015）来源期刊目录'!$B$2:$F$534,5,0)","v":"1005-2674"},"22-1232/F","经济学（75种）"]
[182,"75-14","改革","重庆社会科学院",{"$f":"VLOOKUP(C184,'[1]CSSCI（2014-2015）来源期刊目录'!$B$2:$F$534,5,0)","v":"1003-7543"},"50-1012/F","经济学（75种）"]
[183,"75-15","广东财经大学学报","广东财经大学",{"$f":"VLOOKUP(C185,'[1]CSSCI（2014-2015）来源期刊目录'!$B$2:$F$534,5,0)","v":"1008-2506"},"44-1711/F","经济学（75种）"]
[184,"75-16","贵州财经大学学报","贵州财经大学","2095-5960","52-1156/F","经济学（75种）","新增"]
[185,"75-17","国际金融研究","中国国际金融学会等",{"$f":"VLOOKUP(C187,'[1]CSSCI（2014-2015）来源期刊目录'!$B$2:$F$534,5,0)","v":"1006-1029"},"11-1132/F","经济学（75种）"]
[186,"75-18","国际经济评论","中国社会科学院世界经济与政治研究所",{"$f":"VLOOKUP(C188,'[1]CSSCI（2014-2015）来源期刊目录'!$B$2:$F$534,5,0)","v":"1007-0974"},"11-3799/F","经济学（75种）"]
[187,"75-19","国际经贸探索","广东外语外贸大学",{"$f":"VLOOKUP(C189,'[1]CSSCI（2014-2015）来源期刊目录'!$B$2:$F$534,5,0)","v":"1002-0594"},"44-1302/F","经济学（75种）"]
[188,"75-20","国际贸易","中国商务出版社",{"$f":"VLOOKUP(C190,'[1]CSSCI（2014-2015）来源期刊目录'!$B$2:$F$534,5,0)","v":"1002-4999"},"11-1600/F","经济学（75种）"]
[189,"75-21","国际贸易问题","对外经济贸易大学",{"$f":"VLOOKUP(C191,'[1]CSSCI（2014-2015）来源期刊目录'!$B$2:$F$534,5,0)","v":"1002-4670"},"11-1692/F","经济学（75种）"]
[190,"75-22","国际商务（对外经济贸易大学学报）","对外经济贸易大学",{"$f":"VLOOKUP(C192,'[1]CSSCI（2014-2015）来源期刊目录'!$B$2:$F$534,5,0)","v":"1002-4034"},"11-3645/F","经济学（75种）"]
[191,"75-23","河北经贸大学学报","河北经贸大学",{"$f":"VLOOKUP(C193,'[1]CSSCI（2014-2015）来源期刊目录'!$B$2:$F$534,5,0)","v":"1007-2101"},"13-1207/F","经济学（75种）"]
[192,"75-24","宏观经济研究","国家发展和改革委员会宏观经济研究院",{"$f":"VLOOKUP(C194,'[1]CSSCI（2014-2015）来源期刊目录'!$B$2:$F$534,5,0)","v":"1008-2069"},"11-3952/F","经济学（75种）"]
[193,"75-25","会计研究","中国会计学会",{"$f":"VLOOKUP(C195,'[1]CSSCI（2014-2015）来源期刊目录'!$B$2:$F$534,5,0)","v":"1003-2886"},"11-1078/F","经济学（75种）"]
[194,"75-26","江西财经大学学报","江西财经大学",{"$f":"VLOOKUP(C196,'[1]CSSCI（2014-2015）来源期刊目录'!$B$2:$F$534,5,0)","v":"1008-2972"},"36-1224/F","经济学（75种）"]
[195,"75-27","金融经济学研究","广东金融学院",{"$f":"VLOOKUP(C197,'[1]CSSCI（2014-2015）来源期刊目录'!$B$2:$F$534,5,0)","v":"1008-5742"},"44-1696/F","经济学（75种）"]
[196,"75-28","金融论坛","城市金融研究所、中国城市金融学会","1009-9190","11-4613/F","经济学（75种）","新增"]
[197,"75-29","金融评论","中国社会科学院金融研究所","1674-7690","11-5865/F","经济学（75种）","新增"]
[198,"75-30","金融研究","中国金融学会",{"$f":"VLOOKUP(C200,'[1]CSSCI（2014-2015）来源期刊目录'!$B$2:$F$534,5,0)","v":"1002-7246"},"11-1268/F","经济学（75种）"]
[199,"75-31","经济经纬","河南财经政法大学",{"$f":"VLOOKUP(C201,'[1]CSSCI（2014-2015）来源期刊目录'!$B$2:$F$534,5,0)","v":"1006-1096"},"41-1421/F","经济学（75种）"]
[200,"75-32","经济科学","北京大学",{"$f":"VLOOKUP(C202,'[1]CSSCI（2014-2015）来源期刊目录'!$B$2:$F$534,5,0)","v":"1002-5839"},"11-1564/F","经济学（75种）"]
[201,"75-33","经济理论与经济管理","中国人民大学",{"$f":"VLOOKUP(C203,'[1]CSSCI（2014-2015）来源期刊目录'!$B$2:$F$534,5,0)","v":"1000-596X"},"11-1517/F","经济学（75种）"]
[202,"75-34","经济评论","武汉大学",{"$f":"VLOOKUP(C204,'[1]CSSCI（2014-2015）来源期刊目录'!$B$2:$F$534,5,0)","v":"1005-3425"},"42-1348/F","经济学（75种）"]
[203,"75-35","经济社会体制比较","中共中央编译局",{"$f":"VLOOKUP(C205,'[1]CSSCI（2014-2015）来源期刊目录'!$B$2:$F$534,5,0)","v":"1003-3947"},"11-1591/F","经济学（75种）"]
[204,"75-36","经济问题","山西省社会科学院",{"$f":"VLOOKUP(C206,'[1]CSSCI（2014-2015）来源期刊目录'!$B$2:$F$534,5,0)","v":"14-1058/F"},"14-1058/F","经济学（75种）"]
[205,"75-37","经济问题探索","云南省发展和改革委员会",{"$f":"VLOOKUP(C207,'[1]CSSCI（2014-2015）来源期刊目录'!$B$2:$F$534,5,0)","v":"1006-2912"},"53-1006/F","经济学（75种）"]
[206,"75-38","经济学（季刊）","北京大学中国经济研究中心",{"$f":"VLOOKUP(C208,'[1]CSSCI（2014-2015）来源期刊目录'!$B$2:$F$534,5,0)","v":"2095-1086"},"11-6010/F","经济学（75种）"]
[207,"75-39","经济学动态","中国社会科学院经济研究所",{"$f":"VLOOKUP(C209,'[1]CSSCI（2014-2015）来源期刊目录'!$B$2:$F$534,5,0)","v":"1002-8390"},"11-1057/F","经济学（75种）"]
[208,"75-40","经济学家","西南财经大学等",{"$f":"VLOOKUP(C210,'[1]CSSCI（2014-2015）来源期刊目录'!$B$2:$F$534,5,0)","v":"1003-5656"},"51-1312/F","经济学（75种）"]
[209,"75-41","经济研究","中国社会科学院经济研究所",{"$f":"VLOOKUP(C211,'[1]CSSCI（2014-2015）来源期刊目录'!$B$2:$F$534,5,0)","v":"0577-9154"},"11-1081/F","经济学（75种）"]
[210,"75-42","经济与管理研究","首都经济贸易大学",{"$f":"VLOOKUP(C212,'[1]CSSCI（2014-2015）来源期刊目录'!$B$2:$F$534,5,0)","v":"1000-7636"},"11-1384/F","经济学（75种）"]
[211,"75-43","经济纵横","吉林省社会科学院",{"$f":"VLOOKUP(C213,'[1]CSSCI（2014-2015）来源期刊目录'!$B$2:$F$534,5,0)","v":"1007-7685"},"22-1054/F","经济学（75种）"]
[212,"75-44","南方经济","广东省社会科学院等",{"$f":"VLOOKUP(C214,'[1]CSSCI（2014-2015）来源期刊目录'!$B$2:$F$534,5,0)","v":"1000-6249"},"44-1068/F","经济学（75种）"]
[213,"75-45","南开经济研究","南开大学经济学院",{"$f":"VLOOKUP(C215,'[1]CSSCI（2014-2015）来源期刊目录'!$B$2:$F$534,5,0)","v":"1001-4691"},"12-1028/F","经济学（75种）"]
[214,"75-46","农村经济","四川省农业经济学会",{"$f":"VLOOKUP(C216,'[1]CSSCI（2014-2015）来源期刊目录'!$B$2:$F$534,5,0)","v":"1003-7470"},"51-1029/F","经济学（75种）"]
[215,"75-47","农业技术经济","中国农业技术经济研究会等",{"$f":"VLOOKUP(C217,'[1]CSSCI（2014-2015）来源期刊目录'!$B$2:$F$534,5,0)","v":"1000-6370"},"11-1883/S","经济学（75种）"]
[216,"75-48","农业经济问题","中国农业经济学会等",{"$f":"VLOOKUP(C218,'[1]CSSCI（2014-2015）来源期刊目录'!$B$2:$F$534,5,0)","v":"1000-6389"},"11-1323/F","经济学（75种）"]
[217,"75-49","山西财经大学学报","山西财经大学",{"$f":"VLOOKUP(C219,'[1]CSSCI（2014-2015）来源期刊目录'!$B$2:$F$534,5,0)","v":"1007-9556"},"14-1221/F","经济学（75种）"]
[218,"75-50","商业经济与管理","浙江工商大学",{"$f":"VLOOKUP(C220,'[1]CSSCI（2014-2015）来源期刊目录'!$B$2:$F$534,5,0)","v":"1000-2154"},"33-1336/F","经济学（75种）"]
[219,"75-51","商业研究","哈尔滨商业大学等","1001-148X","23-1364/F","经济学（75种）","新增"]
[220,"75-52","上海财经大学学报","上海财经大学",{"$f":"VLOOKUP(C222,'[1]CSSCI（2014-2015）来源期刊目录'!$B$2:$F$534,5,0)","v":"1009-0150"},"31-1817/C","经济学（75种）"]
[221,"75-53","上海经济研究","上海社会科学院经济研究所",{"$f":"VLOOKUP(C223,'[1]CSSCI（2014-2015）来源期刊目录'!$B$2:$F$534,5,0)","v":"1005-1309"},"31-1163/F","经济学（75种）"]
[222,"75-54","审计研究","中国审计学会",{"$f":"VLOOKUP(C224,'[1]CSSCI（2014-2015）来源期刊目录'!$B$2:$F$534,5,0)","v":"1002-4239"},"11-1024/F","经济学（75种）"]
[223,"75-55","审计与经济研究","南京审计大学",{"$f":"VLOOKUP(C225,'[1]CSSCI（2014-2015）来源期刊目录'!$B$2:$F$534,5,0)","v":"1004-4833"},"32-1317/F","经济学（75种）"]
[224,"75-56","世界经济","中国社会科学院世界经济与政治研究所",{"$f":"VLOOKUP(C226,'[1]CSSCI（2014-2015）来源期刊目录'!$B$2:$F$534,5,0)","v":"1002-9621"},"11-1138/F","经济学（75种）"]
[225,"75-57","世界经济文汇","复旦大学",{"$f":"VLOOKUP(C227,'[1]CSSCI（2014-2015）来源期刊目录'!$B$2:$F$534,5,0)","v":"0488-6364"},"31-1139/F","经济学（75种）"]
[226,"75-58","世界经济研究","上海社会科学院世界经济研究所",{"$f":"VLOOKUP(C228,'[1]CSSCI（2014-2015）来源期刊目录'!$B$2:$F$534,5,0)","v":"1007-6964"},"31-1048/F","经济学（75种）"]
[227,"75-59","世界经济与政治论坛","江苏省社会科学院世界经济研究所",{"$f":"VLOOKUP(C229,'[1]CSSCI（2014-2015）来源期刊目录'!$B$2:$F$534,5,0)","v":"1007-1369"},"32-1544/F","经济学（75种）"]
[228,"75-60","数量经济技术经济研究","数量经济与技术经济研究所",{"$f":"VLOOKUP(C230,'[1]CSSCI（2014-2015）来源期刊目录'!$B$2:$F$534,5,0)","v":"1000-3894"},"11-1087/F","经济学（75种）"]
[229,"75-61","税务研究","中国税务杂志社",{"$f":"VLOOKUP(C231,'[1]CSSCI（2014-2015）来源期刊目录'!$B$2:$F$534,5,0)","v":"1003-448X"},"11-1011/F","经济学（75种）"]
[230,"75-62","现代财经(天津财经大学学报)","天津财经大学","1005-1007","12-1387/F","经济学（75种）","新增"]
[231,"75-63","现代经济探讨","江苏省社会科学院",{"$f":"VLOOKUP(C233,'[1]CSSCI（2014-2015）来源期刊目录'!$B$2:$F$534,5,0)","v":"1009-2382"},"32-1566/F","经济学（75种）"]
[232,"75-64","现代日本经济","吉林大学、全国日本经济学会",{"$f":"VLOOKUP(C234,'[1]CSSCI（2014-2015）来源期刊目录'!$B$2:$F$534,5,0)","v":"1000-355X"},"22-1065/F","经济学（75种）"]
[233,"75-65","亚太经济","福建社会科学院",{"$f":"VLOOKUP(C235,'[1]CSSCI（2014-2015）来源期刊目录'!$B$2:$F$534,5,0)","v":"1000-6052"},"35-1014/F","经济学（75种）"]
[234,"75-66","云南财经大学学报","云南财经大学",{"$f":"VLOOKUP(C236,'[1]CSSCI（2014-2015）来源期刊目录'!$B$2:$F$534,5,0)","v":"1007-5585"},"53-1209/F","经济学（75种）"]
[235,"75-67","证券市场导报","深圳证劵交易所综合研究所",{"$f":"VLOOKUP(C237,'[1]CSSCI（2014-2015）来源期刊目录'!$B$2:$F$534,5,0)","v":"1005-1589"},"44-1343/F","经济学（75种）"]
[236,"75-68","政治经济学评论","中国人民大学经济学院",{"$f":"VLOOKUP(C238,'[1]CSSCI（2014-2015）来源期刊目录'!$B$2:$F$534,5,0)","v":"1674-7542"},"11-5859/D","经济学（75种）"]
[237,"75-69","中国工业经济","中国社会科学院工业经济研究所",{"$f":"VLOOKUP(C239,'[1]CSSCI（2014-2015）来源期刊目录'!$B$2:$F$534,5,0)","v":"1006-480X"},"11-3536/F","经济学（75种）"]
[238,"75-70","中国经济问题","厦门大学经济研究所",{"$f":"VLOOKUP(C240,'[1]CSSCI（2014-2015）来源期刊目录'!$B$2:$F$534,5,0)","v":"1000-4181"},"35-1020/F","经济学（75种）"]
[239,"75-71","中国农村观察","中国社会科学院农村发展研究所",{"$f":"VLOOKUP(C241,'[1]CSSCI（2014-2015）来源期刊目录'!$B$2:$F$534,5,0)","v":"1006-4583"},"11-3586/F","经济学（75种）"]
[240,"75-72","中国农村经济","中国社会科学院农村发展研究所",{"$f":"VLOOKUP(C242,'[1]CSSCI（2014-2015）来源期刊目录'!$B$2:$F$534,5,0)","v":"1002-8870"},"11-1262/F","经济学（75种）"]
[241,"75-73","中国土地科学","中国土地学会、中国土地勘测规划院",{"$f":"VLOOKUP(C243,'[1]CSSCI（2014-2015）来源期刊目录'!$B$2:$F$534,5,0)","v":"1001-8158"},"11-2640/F","经济学（75种）"]
[242,"75-74","中南财经政法大学学报","中南财经政法大学",{"$f":"VLOOKUP(C244,'[1]CSSCI（2014-2015）来源期刊目录'!$B$2:$F$534,5,0)","v":"1003-5230"},"42-1663/F","经济学（75种）"]
[243,"75-75","中央财经大学学报","中央财经大学",{"$f":"VLOOKUP(C245,'[1]CSSCI（2014-2015）来源期刊目录'!$B$2:$F$534,5,0)","v":"1000-1549"},"11-3846/F","经济学（75种）"]
[244,"35-1","北京行政学院学报","北京行政学院",{"$f":"VLOOKUP(C246,'[1]CSSCI（2014-2015）来源期刊目录'!$B$2:$F$534,5,0)","v":"1008-7621"},"11-4054/D","政治学（35种）","《俄罗斯东欧中亚研究》《理论与改革》去除"]
[245,"35-2","当代亚太","中国社会科学院亚太与全球战略研究院等",{"$f":"VLOOKUP(C247,'[1]CSSCI（2014-2015）来源期刊目录'!$B$2:$F$534,5,0)","v":"1007-161X"},"11-3706/C","政治学（35种）"]
[246,"35-3","德国研究","同济大学德国问题研究所",{"$f":"VLOOKUP(C248,'[1]CSSCI（2014-2015）来源期刊目录'!$B$2:$F$534,5,0)","v":"1005-4871"},"31-2032/C","政治学（35种）"]
[247,"35-4","东北亚论坛","吉林大学",{"$f":"VLOOKUP(C249,'[1]CSSCI（2014-2015）来源期刊目录'!$B$2:$F$534,5,0)","v":"1003-7411"},"22-1180/C","政治学（35种）"]
[248,"35-5","东南亚研究","暨南大学东南亚研究所",{"$f":"VLOOKUP(C250,'[1]CSSCI（2014-2015）来源期刊目录'!$B$2:$F$534,5,0)","v":"1008-6099"},"44-1124/D","政治学（35种）"]
[249,"35-6","俄罗斯研究","华东师范大学","1009-721X","31-1843/D","政治学（35种）","新增"]
[250,"35-7","公共行政评论","广东人民出版社有限公司等","1674-2684","44-1648/D","政治学（35种）"]
[251,"35-8","国际观察","上海外国语大学",{"$f":"VLOOKUP(C253,'[1]CSSCI（2014-2015）来源期刊目录'!$B$2:$F$534,5,0)","v":"1005-4812"},"31-1642/D","政治学（35种）"]
[252,"35-9","国际论坛","北京外国语大学",{"$f":"VLOOKUP(C254,'[1]CSSCI（2014-2015）来源期刊目录'!$B$2:$F$534,5,0)","v":"1008-1755"},"11-3959/D","政治学（35种）"]
[253,"35-10","国际问题研究","中国国际问题研究院",{"$f":"VLOOKUP(C255,'[1]CSSCI（2014-2015）来源期刊目录'!$B$2:$F$534,5,0)","v":"0452-8832"},"11-1504/D","政治学（35种）"]
[254,"35-11","国际展望","上海国际问题研究院","1006-1568","31-1041/D","政治学（35种）","新增"]
[255,"35-12","国际政治科学","清华大学","2096-1545","10-1393/D","政治学（35种）","新增"]
[256,"35-13","国际政治研究","北京大学",{"$f":"VLOOKUP(C258,'[1]CSSCI（2014-2015）来源期刊目录'!$B$2:$F$534,5,0)","v":"1671-4709"},"11-4782/D","政治学（35种）"]
[257,"35-14","国家行政学院学报","国家行政学院",{"$f":"VLOOKUP(C259,'[1]CSSCI（2014-2015）来源期刊目录'!$B$2:$F$534,5,0)","v":"1008-9314"},"11-4079/D","政治学（35种）"]
[258,"35-15","行政论坛","黑龙江省行政学院",{"$f":"VLOOKUP(C260,'[1]CSSCI（2014-2015）来源期刊目录'!$B$2:$F$534,5,0)","v":"1005-460X"},"23-1360/D","政治学（35种）"]
[259,"35-16","湖湘论坛","中共湖南省委党校","1004-3160","43-1160/D","政治学（35种）","新增"]
[260,"35-17","江苏行政学院学报","江苏省行政学院",{"$f":"VLOOKUP(C262,'[1]CSSCI（2014-2015）来源期刊目录'!$B$2:$F$534,5,0)","v":"1009-8860"},"32-1562/C","政治学（35种）"]
[261,"35-18","理论探索","中共山西省委党校、山西行政学院",{"$f":"VLOOKUP(C263,'[1]CSSCI（2014-2015）来源期刊目录'!$B$2:$F$534,5,0)","v":"1004-4175"},"14-1079/C","政治学（35种）"]
[262,"35-19","理论探讨","中共黑龙江省委党校",{"$f":"VLOOKUP(C264,'[1]CSSCI（2014-2015）来源期刊目录'!$B$2:$F$534,5,0)","v":"1000-8594"},"23-1013/D","政治学（35种）"]
[263,"35-20","理论学刊","中共山东省委党校",{"$f":"VLOOKUP(C265,'[1]CSSCI（2014-2015）来源期刊目录'!$B$2:$F$534,5,0)","v":"1002-3909"},"37-1059/D","政治学（35种）"]
[264,"35-21","美国研究","中国社会科学院美国研究所、中华美国学会",{"$f":"VLOOKUP(C266,'[1]CSSCI（2014-2015）来源期刊目录'!$B$2:$F$534,5,0)","v":"1002-8986"},"11-1170/C","政治学（35种）"]
[265,"35-22","南亚研究","中国社会科学院亚太与全球战略研究院等",{"$f":"VLOOKUP(C267,'[1]CSSCI（2014-2015）来源期刊目录'!$B$2:$F$534,5,0)","v":"1002-8404"},"11-1306/C","政治学（35种）"]
[266,"35-23","南亚研究季刊","四川大学南亚研究所","1004-1508","51-1023/D","政治学（35种）","新增"]
[267,"35-24","南洋问题研究","厦门大学南洋研究院",{"$f":"VLOOKUP(C269,'[1]CSSCI（2014-2015）来源期刊目录'!$B$2:$F$534,5,0)","v":"1003-9856"},"35-1054/C","政治学（35种）"]
[268,"35-25","欧洲研究","中国社会科学院欧洲研究所",{"$f":"VLOOKUP(C270,'[1]CSSCI（2014-2015）来源期刊目录'!$B$2:$F$534,5,0)","v":"1009-0169"},"11-4899/C","政治学（35种）"]
[269,"35-26","日本学刊","中国社会科学院日本研究所、中华日本学会",{"$f":"VLOOKUP(C271,'[1]CSSCI（2014-2015）来源期刊目录'!$B$2:$F$534,5,0)","v":"1002-7874"},"11-2747/D","政治学（35种）"]
[270,"35-27","上海行政学院学报","上海行政学院",{"$f":"VLOOKUP(C272,'[1]CSSCI（2014-2015）来源期刊目录'!$B$2:$F$534,5,0)","v":"1009-3176"},"31-1815/C","政治学（35种）"]
[271,"35-28","世界经济与政治","中国社会科学院世界经济与政治研究所",{"$f":"VLOOKUP(C273,'[1]CSSCI（2014-2015）来源期刊目录'!$B$2:$F$534,5,0)","v":"1006-9550"},"11-1343/F","政治学（35种）"]
[272,"35-29","台湾研究集刊","厦门大学台湾研究院",{"$f":"VLOOKUP(C274,'[1]CSSCI（2014-2015）来源期刊目录'!$B$2:$F$534,5,0)","v":"1002-1590"},"35-1022/C","政治学（35种）"]
[273,"35-30","太平洋学报","中国太平洋学会",{"$f":"VLOOKUP(C275,'[1]CSSCI（2014-2015）来源期刊目录'!$B$2:$F$534,5,0)","v":"1004-8049"},"11-3152/K","政治学（35种）"]
[274,"35-31","探索","中共重庆市委党校",{"$f":"VLOOKUP(C276,'[1]CSSCI（2014-2015）来源期刊目录'!$B$2:$F$534,5,0)","v":"1007-5194"},"50-1019/D","政治学（35种）"]
[275,"35-32","外交评论（外交学院学报）","外交学院",{"$f":"VLOOKUP(C277,'[1]CSSCI（2014-2015）来源期刊目录'!$B$2:$F$534,5,0)","v":"1003-3386"},"11-5370/D","政治学（35种）"]
[276,"35-33","现代国际关系","中国现代国际关系研究院",{"$f":"VLOOKUP(C278,'[1]CSSCI（2014-2015）来源期刊目录'!$B$2:$F$534,5,0)","v":"1000-6192　　"},"11-1134/D","政治学（35种）"]
[277,"35-34","政治学研究","中国社会科学院政治学研究所",{"$f":"VLOOKUP(C279,'[1]CSSCI（2014-2015）来源期刊目录'!$B$2:$F$534,5,0)","v":"1000-3355"},"11-1396/D","政治学（35种）"]
[278,"35-35","中共中央党校学报","中共中央党校",{"$f":"VLOOKUP(C280,'[1]CSSCI（2014-2015）来源期刊目录'!$B$2:$F$534,5,0)","v":"1007-5801"},"11-3847/C","政治学（35种）"]
[279,"23-1","比较法研究","中国政法大学比较法研究所",{"$f":"VLOOKUP(C281,'[1]CSSCI（2014-2015）来源期刊目录'!$B$2:$F$534,5,0)","v":"1004-8561"},"11-3171/D","法学（23种）","《知识产权》去除"]
[280,"23-2","当代法学","吉林大学",{"$f":"VLOOKUP(C282,'[1]CSSCI（2014-2015）来源期刊目录'!$B$2:$F$534,5,0)","v":"1003-4781"},"22-1051/D","法学（23种）"]
[281,"23-3","东方法学","上海法学会、上海人民出版社","1674-4039","31-2008/D","法学（23种）","新增"]
[282,"23-4","法律科学（西北政法大学学报）","西北政法大学","1674-5205","61-1470/D","法学（23种）"]
[283,"23-5","法商研究","中南财经政法大学",{"$f":"VLOOKUP(C285,'[1]CSSCI（2014-2015）来源期刊目录'!$B$2:$F$534,5,0)","v":"1672-0393"},"42-1664/D","法学（23种）"]
[284,"23-6","法学","华东政法大学",{"$f":"VLOOKUP(C286,'[1]CSSCI（2014-2015）来源期刊目录'!$B$2:$F$534,5,0)","v":"1000-4238"},"31-1050/D","法学（23种）"]
[285,"23-7","法学家","中国人民大学",{"$f":"VLOOKUP(C287,'[1]CSSCI（2014-2015）来源期刊目录'!$B$2:$F$534,5,0)","v":"1005-0221"},"11-3212/D","法学（23种）"]
[286,"23-8","法学论坛","山东省法学会",{"$f":"VLOOKUP(C288,'[1]CSSCI（2014-2015）来源期刊目录'!$B$2:$F$534,5,0)","v":"1009-8003"},"37-1343/D","法学（23种）"]
[287,"23-9","法学评论","武汉大学",{"$f":"VLOOKUP(C289,'[1]CSSCI（2014-2015）来源期刊目录'!$B$2:$F$534,5,0)","v":"1004-1303"},"42-1086/D","法学（23种）"]
[288,"23-10","法学研究","中国社会科学院法学研究所",{"$f":"VLOOKUP(C290,'[1]CSSCI（2014-2015）来源期刊目录'!$B$2:$F$534,5,0)","v":"1002-896X"},"11-1162/D","法学（23种）"]
[289,"23-11","法学杂志","北京市法学会",{"$f":"VLOOKUP(C291,'[1]CSSCI（2014-2015）来源期刊目录'!$B$2:$F$534,5,0)","v":"1001-618X"},"11-1648/D","法学（23种）"]
[290,"23-12","法制与社会发展","吉林大学",{"$f":"VLOOKUP(C292,'[1]CSSCI（2014-2015）来源期刊目录'!$B$2:$F$534,5,0)","v":"1006-6128"},"22-1243/D","法学（23种）"]
[291,"23-13","行政法学研究","中国政法大学","1005-0078","11-3110/D","法学（23种）","新增"]
[292,"23-14","华东政法大学学报","华东政法大学",{"$f":"VLOOKUP(C294,'[1]CSSCI（2014-2015）来源期刊目录'!$B$2:$F$534,5,0)","v":"1008-4622"},"31-2005/D","法学（23种）"]
[293,"23-15","环球法律评论","中国社会科学院法学研究所",{"$f":"VLOOKUP(C295,'[1]CSSCI（2014-2015）来源期刊目录'!$B$2:$F$534,5,0)","v":"1009-6728"},"11-4560/D","法学（23种）"]
[294,"23-16","清华法学","清华大学",{"$f":"VLOOKUP(C296,'[1]CSSCI（2014-2015）来源期刊目录'!$B$2:$F$534,5,0)","v":"1673-9280"},"11-5594/D","法学（23种）"]
[295,"23-17","现代法学","西南政法大学",{"$f":"VLOOKUP(C297,'[1]CSSCI（2014-2015）来源期刊目录'!$B$2:$F$534,5,0)","v":"1001-2397"},"50-1020/D","法学（23种）"]
[296,"23-18","政法论丛","山东政法学院",{"$f":"VLOOKUP(C298,'[1]CSSCI（2014-2015）来源期刊目录'!$B$2:$F$534,5,0)","v":"1002-6274"},"37-1016/D","法学（23种）"]
[297,"23-19","政法论坛","中国政法大学",{"$f":"VLOOKUP(C299,'[1]CSSCI（2014-2015）来源期刊目录'!$B$2:$F$534,5,0)","v":"1000-0208"},"11-5608/D","法学（23种）"]
[298,"23-20","政治与法律","上海社会科学院法学研究所",{"$f":"VLOOKUP(C300,'[1]CSSCI（2014-2015）来源期刊目录'!$B$2:$F$534,5,0)","v":"1005-9512"},"31-1106/D","法学（23种）"]
[299,"23-21","中国法学","中国法学会",{"$f":"VLOOKUP(C301,'[1]CSSCI（2014-2015）来源期刊目录'!$B$2:$F$534,5,0)","v":"1003-1707"},"11-1030/D","法学（23种）"]
[300,"23-22","中国刑事法杂志","最高人民检察院检察理论研究所","1007-9017","11-3891/D","法学（23种）","新增"]
[301,"23-23","中外法学","北京大学",{"$f":"VLOOKUP(C303,'[1]CSSCI（2014-2015）来源期刊目录'!$B$2:$F$534,5,0)","v":"1002-4875"},"11-2447/D","法学（23种）"]
[302,"10-1","妇女研究论丛","全国妇联妇女研究所、中国妇女研究会",{"$f":"VLOOKUP(C304,'[1]CSSCI（2014-2015）来源期刊目录'!$B$2:$F$534,5,0)","v":"1004-2563"},"11-2876/C","社会学（10种）"]
[303,"10-2","青年研究","中国社会科学院社会学研究所",{"$f":"VLOOKUP(C305,'[1]CSSCI（2014-2015）来源期刊目录'!$B$2:$F$534,5,0)","v":"1008-1437"},"11-3280/C","社会学（10种）"]
[304,"10-3","人口学刊","吉林大学",{"$f":"VLOOKUP(C306,'[1]CSSCI（2014-2015）来源期刊目录'!$B$2:$F$534,5,0)","v":"1004-129X"},"22-1017/C","社会学（10种）"]
[305,"10-4","人口研究","中国人民大学",{"$f":"VLOOKUP(C307,'[1]CSSCI（2014-2015）来源期刊目录'!$B$2:$F$534,5,0)","v":"1000-6087"},"11-1489/C","社会学（10种）"]
[306,"10-5","人口与发展","北京大学",{"$f":"VLOOKUP(C308,'[1]CSSCI（2014-2015）来源期刊目录'!$B$2:$F$534,5,0)","v":"1674-1668"},"11-5646/F","社会学（10种）"]
[307,"10-6","人口与经济","首都经济贸易大学",{"$f":"VLOOKUP(C309,'[1]CSSCI（2014-2015）来源期刊目录'!$B$2:$F$534,5,0)","v":"1000-4149"},"11-1115/F","社会学（10种）"]
[308,"10-7","社会","上海大学",{"$f":"VLOOKUP(C310,'[1]CSSCI（2014-2015）来源期刊目录'!$B$2:$F$534,5,0)","v":"1004-8804"},"31-1123/C","社会学（10种）"]
[309,"10-8","社会学研究","中国社会科学院社会学研究所",{"$f":"VLOOKUP(C311,'[1]CSSCI（2014-2015）来源期刊目录'!$B$2:$F$534,5,0)","v":"1002-5936"},"11-1100/C","社会学（10种）"]
[310,"10-9","中国青年研究","中国青少年研究中心、中国青少年研究会",{"$f":"VLOOKUP(C312,'[1]CSSCI（2014-2015）来源期刊目录'!$B$2:$F$534,5,0)","v":"1002-9931"},"11-2579/D","社会学（10种）"]
[311,"10-10","中国人口科学","中国社会科学院人口与劳动经济研究所",{"$f":"VLOOKUP(C313,'[1]CSSCI（2014-2015）来源期刊目录'!$B$2:$F$534,5,0)","v":"1000-7881"},"11-1043/C","社会学（10种）"]
[312,"14-1","广西民族研究","广西壮族自治区民族问题研究中心",{"$f":"VLOOKUP(C314,'[1]CSSCI（2014-2015）来源期刊目录'!$B$2:$F$534,5,0)","v":"1004-454X"},"45-1041/C","民族学与文化学（14种）","《北方民族大学学报》《民族教育研究》去除"]
[313,"14-2","中国藏学","中国藏学研究中心",{"$f":"VLOOKUP(C315,'[1]CSSCI（2014-2015）来源期刊目录'!$B$2:$F$534,5,0)","v":"1002-557X"},"11-1725/C","民族学与文化学（14种）"]
[314,"14-3","文化遗产","中山大学","1674-0890","44-1645/G0","民族学与文化学（14种）","新增"]
[315,"14-4","世界民族","中国社会科学院民族学与人类学研究所",{"$f":"VLOOKUP(C317,'[1]CSSCI（2014-2015）来源期刊目录'!$B$2:$F$534,5,0)","v":"1006-8287"},"11-3673/C","民族学与文化学（14种）"]
[316,"14-5","民俗研究","山东大学",{"$f":"VLOOKUP(C318,'[1]CSSCI（2014-2015）来源期刊目录'!$B$2:$F$534,5,0)","v":"1002-4360"},"37-1178/K","民族学与文化学（14种）"]
[317,"14-6","民族研究","中国社会科学院民族学与人类学研究所",{"$f":"VLOOKUP(C319,'[1]CSSCI（2014-2015）来源期刊目录'!$B$2:$F$534,5,0)","v":"0256-1891"},"11-1217/C","民族学与文化学（14种）"]
[318,"14-7","西北民族研究","西北民族大学",{"$f":"VLOOKUP(C320,'[1]CSSCI（2014-2015）来源期刊目录'!$B$2:$F$534,5,0)","v":"1001-5558"},"62-1035/D","民族学与文化学（14种）"]
[319,"14-8","青海民族研究","青海民族大学民族学与社会学学院等",{"$f":"VLOOKUP(C321,'[1]CSSCI（2014-2015）来源期刊目录'!$B$2:$F$534,5,0)","v":"1005-5681"},"63-1016/C","民族学与文化学（14种）"]
[320,"14-9","贵州民族研究","贵州省民族研究所",{"$f":"VLOOKUP(C322,'[1]CSSCI（2014-2015）来源期刊目录'!$B$2:$F$534,5,0)","v":"1002-6959"},"52-1001/C","民族学与文化学（14种）"]
[321,"14-10","广西民族大学学报（哲学社会科学版）","广西民族大学",{"$f":"VLOOKUP(C323,'[1]CSSCI（2014-2015）来源期刊目录'!$B$2:$F$534,5,0)","v":"1673-8179"},"45-1349/C","民族学与文化学（14种）","出版单位有误"]
[322,"14-11","中央民族大学学报（哲学社会科学版）","中央民族大学",{"$f":"VLOOKUP(C324,'[1]CSSCI（2014-2015）来源期刊目录'!$B$2:$F$534,5,0)","v":"1005-8575"},"11-3530/C","民族学与文化学（14种）"]
[323,"14-12","中南民族大学学报（人文社会科学版）","中南民族大学",{"$f":"VLOOKUP(C325,'[1]CSSCI（2014-2015）来源期刊目录'!$B$2:$F$534,5,0)","v":"1672-4321"},"42-1704/C","民族学与文化学（14种）"]
[324,"14-13","西南民族大学学报（人文社科版）","西南民族大学",{"$f":"VLOOKUP(C326,'[1]CSSCI（2014-2015）来源期刊目录'!$B$2:$F$534,5,0)","v":"1003-2843"},"51-1671/C","民族学与文化学（14种）"]
[325,"14-14","云南民族大学学报（哲学社会科学版）","云南民族大学","1672-867X","53-1191/C","民族学与文化学（14种）","新增"]
[326,"15-1","编辑学报","中国科学技术期刊编辑学会",{"$f":"VLOOKUP(C328,'[1]CSSCI（2014-2015）来源期刊目录'!$B$2:$F$534,5,0)","v":"1001-4314"},"11-2493/G3","新闻学与传播学（15种）","《中国编辑》去除"]
[327,"15-2","编辑之友","山西报刊传媒集团有限责任公司",{"$f":"VLOOKUP(C329,'[1]CSSCI（2014-2015）来源期刊目录'!$B$2:$F$534,5,0)","v":"1003-6687"},"14-1066/G2","新闻学与传播学（15种）"]
[328,"15-3","出版发行研究","中国新闻出版研究院",{"$f":"VLOOKUP(C330,'[1]CSSCI（2014-2015）来源期刊目录'!$B$2:$F$534,5,0)","v":"1001-9316"},"11-1537/G2","新闻学与传播学（15种）"]
[329,"15-4","出版科学","湖北省编辑学会、武汉大学",{"$f":"VLOOKUP(C331,'[1]CSSCI（2014-2015）来源期刊目录'!$B$2:$F$534,5,0)","v":"1009-5853"},"42-1618/G2","新闻学与传播学（15种）"]
[330,"15-5","当代传播","新疆日报社、新疆新闻工作者协会",{"$f":"VLOOKUP(C332,'[1]CSSCI（2014-2015）来源期刊目录'!$B$2:$F$534,5,0)","v":"1009-5322"},"65-1201/G2","新闻学与传播学（15种）"]
[331,"15-6","国际新闻界","中国人民大学",{"$f":"VLOOKUP(C333,'[1]CSSCI（2014-2015）来源期刊目录'!$B$2:$F$534,5,0)","v":"1002-5685"},"11-1523/G2","新闻学与传播学（15种）"]
[332,"15-7","科技与出版","清华大学出版社有限公司",{"$f":"VLOOKUP(C334,'[1]CSSCI（2014-2015）来源期刊目录'!$B$2:$F$534,5,0)","v":"1005-0590"},"11-3209/G3","新闻学与传播学（15种）"]
[333,"15-8","现代出版","中国大学出版社协会等",{"$f":"VLOOKUP(C335,'[1]CSSCI（2014-2015）来源期刊目录'!$B$2:$F$534,5,0)","v":"1006-7361"},"11-5979/G2","新闻学与传播学（15种）"]
[334,"15-9","现代传播（中国传媒大学学报）","中国传媒大学",{"$f":"VLOOKUP(C336,'[1]CSSCI（2014-2015）来源期刊目录'!$B$2:$F$534,5,0)","v":"1007-8770"},"11-5363/G2","新闻学与传播学（15种）"]
[335,"15-10","新闻大学","复旦大学",{"$f":"VLOOKUP(C337,'[1]CSSCI（2014-2015）来源期刊目录'!$B$2:$F$534,5,0)","v":"1006-1460"},"31-1157/G2","新闻学与传播学（15种）"]
[336,"15-11","新闻记者","上海社会科学院新闻研究所等",{"$f":"VLOOKUP(C338,'[1]CSSCI（2014-2015）来源期刊目录'!$B$2:$F$534,5,0)","v":"1006-3277"},"31-1171/G2","新闻学与传播学（15种）"]
[337,"15-12","新闻界","四川日报报业集团","1007-2438","51-1046/G2","新闻学与传播学（15种）","新增"]
[338,"15-13","新闻与传播研究","中国社会科学院新闻与传播研究所",{"$f":"VLOOKUP(C340,'[1]CSSCI（2014-2015）来源期刊目录'!$B$2:$F$534,5,0)","v":"1005-2577"},"11-3320/G2","新闻学与传播学（15种）"]
[339,"15-14","中国出版","中国新闻出版传媒集团",{"$f":"VLOOKUP(C341,'[1]CSSCI（2014-2015）来源期刊目录'!$B$2:$F$534,5,0)","v":"1002-4166"},"11-2807/G2","新闻学与传播学（15种）"]
[340,"15-15","中国科技期刊研究","中国科学院自然科学期刊编辑研究会等",{"$f":"VLOOKUP(C342,'[1]CSSCI（2014-2015）来源期刊目录'!$B$2:$F$534,5,0)","v":"1002-4166"},"11-2684/G3","新闻学与传播学（15种）"]
[341,"20-1","大学图书馆学报","北京大学、教育部高校图情工作指导委员会",{"$f":"VLOOKUP(C343,'[1]CSSCI（2014-2015）来源期刊目录'!$B$2:$F$534,5,0)","v":"1002-1027"},"11-2952/G2","图书馆、情报与文献学（20种）","《图书馆工作与研究》《现代图书情报技术》去除"]
[342,"20-2","档案学通讯","中国人民大学",{"$f":"VLOOKUP(C344,'[1]CSSCI（2014-2015）来源期刊目录'!$B$2:$F$534,5,0)","v":"1001-201X"},"11-1450/G2","图书馆、情报与文献学（20种）"]
[343,"20-3","档案学研究","中国档案学会",{"$f":"VLOOKUP(C345,'[1]CSSCI（2014-2015）来源期刊目录'!$B$2:$F$534,5,0)","v":"1002-1620"},"11-1226/G2","图书馆、情报与文献学（20种）"]
[344,"20-4","国家图书馆学刊","中国国家图书馆",{"$f":"VLOOKUP(C346,'[1]CSSCI（2014-2015）来源期刊目录'!$B$2:$F$534,5,0)","v":"1009-3125"},"11-4099/G2","图书馆、情报与文献学（20种）"]
[345,"20-5","情报科学","中国科技情报学会、吉林大学",{"$f":"VLOOKUP(C347,'[1]CSSCI（2014-2015）来源期刊目录'!$B$2:$F$534,5,0)","v":"1007-7634"},"22-1264/G2","图书馆、情报与文献学（20种）"]
[346,"20-6","情报理论与实践","中国国防科学技术信息学会等",{"$f":"VLOOKUP(C348,'[1]CSSCI（2014-2015）来源期刊目录'!$B$2:$F$534,5,0)","v":"1000-7490"},"11-1762/G3","图书馆、情报与文献学（20种）"]
[347,"20-7","情报学报","中国科学技术情报学会等",{"$f":"VLOOKUP(C349,'[1]CSSCI（2014-2015）来源期刊目录'!$B$2:$F$534,5,0)","v":"1000-0135"},"11-2257/G3","图书馆、情报与文献学（20种）"]
[348,"20-8","情报杂志","陕西省科学技术信息研究所",{"$f":"VLOOKUP(C350,'[1]CSSCI（2014-2015）来源期刊目录'!$B$2:$F$534,5,0)","v":"1002-1965"},"61-1167/G3","图书馆、情报与文献学（20种）"]
[349,"20-9","情报资料工作","中国人民大学",{"$f":"VLOOKUP(C351,'[1]CSSCI（2014-2015）来源期刊目录'!$B$2:$F$534,5,0)","v":"1002-0314"},"11-1448/G3","图书馆、情报与文献学（20种）"]
[350,"20-10","数据分析与知识发现","中国科学院文献情报中心","2096-3467","11-2856/G2","图书馆、情报与文献学（20种）","新增"]
[351,"20-11","图书馆","湖南图书馆",{"$f":"VLOOKUP(C353,'[1]CSSCI（2014-2015）来源期刊目录'!$B$2:$F$534,5,0)","v":"1002-1558"},"43-1031/G2","图书馆、情报与文献学（20种）"]
[352,"20-12","图书馆建设","黑龙江省图书馆学会、黑龙江省图书馆",{"$f":"VLOOKUP(C354,'[1]CSSCI（2014-2015）来源期刊目录'!$B$2:$F$534,5,0)","v":"1004-325X"},"23-1331/G2","图书馆、情报与文献学（20种）"]
[353,"20-13","图书馆论坛","广东省中山图书馆",{"$f":"VLOOKUP(C355,'[1]CSSCI（2014-2015）来源期刊目录'!$B$2:$F$534,5,0)","v":"1002-1167"},"44-1306/G2","图书馆、情报与文献学（20种）"]
[354,"20-14","图书馆学研究","吉林省图书馆",{"$f":"VLOOKUP(C356,'[1]CSSCI（2014-2015）来源期刊目录'!$B$2:$F$534,5,0)","v":"1001-0424"},"22-1052/G2","图书馆、情报与文献学（20种）"]
[355,"20-15","图书馆杂志","上海市图书馆学会、上海图书馆",{"$f":"VLOOKUP(C357,'[1]CSSCI（2014-2015）来源期刊目录'!$B$2:$F$534,5,0)","v":"1000-4254"},"31-1108/G2","图书馆、情报与文献学（20种）"]
[356,"20-16","图书情报工作","中国科学院文献情报中心",{"$f":"VLOOKUP(C358,'[1]CSSCI（2014-2015）来源期刊目录'!$B$2:$F$534,5,0)","v":"0252-3116"},"11-1541/G2","图书馆、情报与文献学（20种）"]
[357,"20-17","图书情报知识","武汉大学信息管理学院",{"$f":"VLOOKUP(C359,'[1]CSSCI（2014-2015）来源期刊目录'!$B$2:$F$534,5,0)","v":"1003-2797"},"42-1085/G2","图书馆、情报与文献学（20种）"]
[358,"20-18","图书与情报","甘肃省图书馆",{"$f":"VLOOKUP(C360,'[1]CSSCI（2014-2015）来源期刊目录'!$B$2:$F$534,5,0)","v":"1003-6938"},"62-1026/G2","图书馆、情报与文献学（20种）"]
[359,"20-19","现代情报","中国科学技术情报学会等","1008-0821","22-1182/G3","图书馆、情报与文献学（20种）","新增"]
[360,"20-20","中国图书馆学报","中国图书馆学会、国家图书馆",{"$f":"VLOOKUP(C362,'[1]CSSCI（2014-2015）来源期刊目录'!$B$2:$F$534,5,0)","v":"1001-8867"},"11-2746/G2","图书馆、情报与文献学（20种）"]
[361,"37-1","北京大学教育评论","北京大学",{"$f":"VLOOKUP(C363,'[1]CSSCI（2014-2015）来源期刊目录'!$B$2:$F$534,5,0)","v":"1671-9468"},"11-4848/G4","教育学（37种）","《大学教育科学》、《现代远距离教育》"]
[362,"37-2","比较教育研究","北京师范大学",{"$f":"VLOOKUP(C364,'[1]CSSCI（2014-2015）来源期刊目录'!$B$2:$F$534,5,0)","v":"1003-7667"},"11-2878/G4","教育学（37种）"]
[363,"37-3","电化教育研究","西北师范大学、中国电化教育研究会",{"$f":"VLOOKUP(C365,'[1]CSSCI（2014-2015）来源期刊目录'!$B$2:$F$534,5,0)","v":"1003-1553"},"62-1022/G4","教育学（37种）"]
[364,"37-4","复旦教育论坛","复旦大学",{"$f":"VLOOKUP(C366,'[1]CSSCI（2014-2015）来源期刊目录'!$B$2:$F$534,5,0)","v":"1672-0059"},"31-1891/G4","教育学（37种）"]
[365,"37-5","高等工程教育研究","华中科技大学等",{"$f":"VLOOKUP(C367,'[1]CSSCI（2014-2015）来源期刊目录'!$B$2:$F$534,5,0)","v":"1001-4233"},"42-1026/G4","教育学（37种）"]
[366,"37-6","高等教育研究","中国高教学会高等教育学专业委员会",{"$f":"VLOOKUP(C368,'[1]CSSCI（2014-2015）来源期刊目录'!$B$2:$F$534,5,0)","v":"1000-4203"},"42-1024/G4","教育学（37种）"]
[367,"37-7","高教探索","广东省高等教育学会",{"$f":"VLOOKUP(C369,'[1]CSSCI（2014-2015）来源期刊目录'!$B$2:$F$534,5,0)","v":"1673-9760"},"44-1109/G4","教育学（37种）"]
[368,"37-8","高校教育管理","江苏大学","1673-8381","32-1774/G4","教育学（37种）","新增"]
[369,"37-9","国家教育行政学院学报","国家教育行政学院",{"$f":"VLOOKUP(C371,'[1]CSSCI（2014-2015）来源期刊目录'!$B$2:$F$534,5,0)","v":"1672-4038"},"11-5047/D","教育学（37种）"]
[370,"37-10","湖南师范大学教育科学学报","湖南师范大学",{"$f":"VLOOKUP(C372,'[1]CSSCI（2014-2015）来源期刊目录'!$B$2:$F$534,5,0)","v":"1671-6124"},"43-1381/G4","教育学（37种）"]
[371,"37-11","华东师范大学学报（教育科学版）","华东师范大学",{"$f":"VLOOKUP(C373,'[1]CSSCI（2014-2015）来源期刊目录'!$B$2:$F$534,5,0)","v":"1000-5560"},"31-1007/G4","教育学（37种）"]
[372,"37-12","江苏高教","江苏教育报刊总社",{"$f":"VLOOKUP(C374,'[1]CSSCI（2014-2015）来源期刊目录'!$B$2:$F$534,5,0)","v":"1003-8418"},"32-1048/G4","教育学（37种）"]
[373,"37-13","教师教育研究","教育部高校师资培训交流北京中心",{"$f":"VLOOKUP(C375,'[1]CSSCI（2014-2015）来源期刊目录'!$B$2:$F$534,5,0)","v":"1672-5905"},"11-5147/G4","教育学（37种）"]
[374,"37-14","教育发展研究","上海市教育科学研究院等",{"$f":"VLOOKUP(C376,'[1]CSSCI（2014-2015）来源期刊目录'!$B$2:$F$534,5,0)","v":"1008-3855"},"31-1772/G4","教育学（37种）"]
[375,"37-15","教育科学","辽宁师范大学",{"$f":"VLOOKUP(C377,'[1]CSSCI（2014-2015）来源期刊目录'!$B$2:$F$534,5,0)","v":"1002-8064"},"21-1066/G4","教育学（37种）"]
[376,"37-16","教育学报","北京师范大学",{"$f":"VLOOKUP(C378,'[1]CSSCI（2014-2015）来源期刊目录'!$B$2:$F$534,5,0)","v":"1673-1298"},"11-5306/G4","教育学（37种）"]
[377,"37-17","教育研究","中国教育科学研究院",{"$f":"VLOOKUP(C379,'[1]CSSCI（2014-2015）来源期刊目录'!$B$2:$F$534,5,0)","v":"1002-5731"},"11-1281/G4","教育学（37种）"]
[378,"37-18","教育研究与实验","华中师范大学",{"$f":"VLOOKUP(C380,'[1]CSSCI（2014-2015）来源期刊目录'!$B$2:$F$534,5,0)","v":"1003-160X"},"42-1041/G4","教育学（37种）"]
[379,"37-19","教育与经济","华中师范大学等",{"$f":"VLOOKUP(C381,'[1]CSSCI（2014-2015）来源期刊目录'!$B$2:$F$534,5,0)","v":"1003-4870"},"42-1268/G4","教育学（37种）"]
[380,"37-20","开放教育研究","上海远程教育集团、上海电视大学",{"$f":"VLOOKUP(C382,'[1]CSSCI（2014-2015）来源期刊目录'!$B$2:$F$534,5,0)","v":"1007-2179"},"31-1724/G4","教育学（37种）"]
[381,"37-21","课程·教材·教法","人民教育出版社课程教材研究所",{"$f":"VLOOKUP(C383,'[1]CSSCI（2014-2015）来源期刊目录'!$B$2:$F$534,5,0)","v":"1000-0186"},"11-1278/G4","教育学（37种）"]
[382,"37-22","清华大学教育研究","清华大学",{"$f":"VLOOKUP(C384,'[1]CSSCI（2014-2015）来源期刊目录'!$B$2:$F$534,5,0)","v":"1001-4519"},"11-1610/G4","教育学（37种）"]
[383,"37-23","全球教育展望","华东师范大学",{"$f":"VLOOKUP(C385,'[1]CSSCI（2014-2015）来源期刊目录'!$B$2:$F$534,5,0)","v":"1009-9670"},"31-1842/G4","教育学（37种）"]
[384,"37-24","外国教育研究","东北师范大学",{"$f":"VLOOKUP(C386,'[1]CSSCI（2014-2015）来源期刊目录'!$B$2:$F$534,5,0)","v":"1006-7469"},"22-1022/G4","教育学（37种）"]
[385,"37-25","现代大学教育","湖南省高等教育学会、中南大学",{"$f":"VLOOKUP(C387,'[1]CSSCI（2014-2015）来源期刊目录'!$B$2:$F$534,5,0)","v":"1671-1610"},"43-1358/G4","教育学（37种）"]
[386,"37-26","现代教育技术","清华大学",{"$f":"VLOOKUP(C388,'[1]CSSCI（2014-2015）来源期刊目录'!$B$2:$F$534,5,0)","v":"1009-8097"},"11-4525/N","教育学（37种）"]
[387,"37-27","现代远程教育研究","四川广播电视大学",{"$f":"VLOOKUP(C389,'[1]CSSCI（2014-2015）来源期刊目录'!$B$2:$F$534,5,0)","v":"1009-5195"},"51-1580/G4","教育学（37种）"]
[388,"37-28","学前教育研究","中国学前教育研究会、长沙师范学校",{"$f":"VLOOKUP(C390,'[1]CSSCI（2014-2015）来源期刊目录'!$B$2:$F$534,5,0)","v":"1007-8169"},"43-1038/G4","教育学（37种）"]
[389,"37-29","学位与研究生教育","国务院学位委员会",{"$f":"VLOOKUP(C391,'[1]CSSCI（2014-2015）来源期刊目录'!$B$2:$F$534,5,0)","v":"1001-960X"},"11-1736/G4","教育学（37种）"]
[390,"37-30","研究生教育研究","中国学位与研究生教育学会等","2095-1663","34-1319/G4","教育学（37种）","新增"]
[391,"37-31","远程教育杂志","浙江广播电视大学",{"$f":"VLOOKUP(C393,'[1]CSSCI（2014-2015）来源期刊目录'!$B$2:$F$534,5,0)","v":"1672-0008"},"33-1304/G4","教育学（37种）"]
[392,"37-32","中国电化教育","中央电化教育馆",{"$f":"VLOOKUP(C394,'[1]CSSCI（2014-2015）来源期刊目录'!$B$2:$F$534,5,0)","v":"1006-9860"},"11-3792/G4","教育学（37种）"]
[393,"37-33","中国高等教育","中国教育报刊社",{"$f":"VLOOKUP(C395,'[1]CSSCI（2014-2015）来源期刊目录'!$B$2:$F$534,5,0)","v":"1002-4417"},"11-1200/G4","教育学（37种）"]
[394,"37-34","中国高教研究","中国高等教育学会",{"$f":"VLOOKUP(C396,'[1]CSSCI（2014-2015）来源期刊目录'!$B$2:$F$534,5,0)","v":"1004-3667"},"11-2962/G4","教育学（37种）"]
[395,"37-35","中国教育学刊","中国教育学会",{"$f":"VLOOKUP(C397,'[1]CSSCI（2014-2015）来源期刊目录'!$B$2:$F$534,5,0)","v":"1002-4808"},"11-2606/G4","教育学（37种）"]
[396,"37-36","中国特殊教育","中国教育科学研究院",{"$f":"VLOOKUP(C398,'[1]CSSCI（2014-2015）来源期刊目录'!$B$2:$F$534,5,0)","v":"1007-3728"},"11-3826/G4","教育学（37种）"]
[397,"37-37","中国远程教育","国家开放大学","1009-458X","11-4089/G4","教育学（37种）","新增"]
[398,"11-1","北京体育大学学报","北京体育大学",{"$f":"VLOOKUP(C400,'[1]CSSCI（2014-2015）来源期刊目录'!$B$2:$F$534,5,0)","v":"1007-3612"},"11-3785/G8","体育学（11种）","《沈阳体育学院学报》去除"]
[399,"11-2","成都体育学院学报","成都体育学院","1001-9154","51-1097/G8","体育学（11种）","新增"]
[400,"11-3","上海体育学院学报","上海体育学院",{"$f":"VLOOKUP(C402,'[1]CSSCI（2014-2015）来源期刊目录'!$B$2:$F$534,5,0)","v":"1000-5498"},"31-1005/G8","体育学（11种）"]
[401,"11-4","首都体育学院学报","首都体育学院","1009-783X","11-4513/G","体育学（11种）","新增"]
[402,"11-5","体育科学","中国体育科学学会",{"$f":"VLOOKUP(C404,'[1]CSSCI（2014-2015）来源期刊目录'!$B$2:$F$534,5,0)","v":"1000-677X"},"11-1295/G8","体育学（11种）"]
[403,"11-6","体育学刊","华南理工大学、华南师范大学",{"$f":"VLOOKUP(C405,'[1]CSSCI（2014-2015）来源期刊目录'!$B$2:$F$534,5,0)","v":"1006-7116"},"44-1404/G8","体育学（11种）"]
[404,"11-7","体育与科学","江苏省体育科学研究所",{"$f":"VLOOKUP(C406,'[1]CSSCI（2014-2015）来源期刊目录'!$B$2:$F$534,5,0)","v":"1004-4590"},"32-1208/G8","体育学（11种）"]
[405,"11-8","天津体育学院学报","天津体育学院",{"$f":"VLOOKUP(C407,'[1]CSSCI（2014-2015）来源期刊目录'!$B$2:$F$534,5,0)","v":"1005-0000"},"12-1140/G8","体育学（11种）"]
[406,"11-9","武汉体育学院学报","武汉体育学院",{"$f":"VLOOKUP(C408,'[1]CSSCI（2014-2015）来源期刊目录'!$B$2:$F$534,5,0)","v":"1000-520X"},"42-1105/G8","体育学（11种）"]
[407,"11-10","西安体育学院学报","西安体育学院",{"$f":"VLOOKUP(C409,'[1]CSSCI（2014-2015）来源期刊目录'!$B$2:$F$534,5,0)","v":"1001-747X"},"61-1198/G8","体育学（11种）"]
[408,"11-11","中国体育科技","国家体育总局体育科学研究所",{"$f":"VLOOKUP(C410,'[1]CSSCI（2014-2015）来源期刊目录'!$B$2:$F$534,5,0)","v":"1002-9826"},"11-2284/G8","体育学（11种）"]
[409,"4-1","数理统计与管理","中国现场统计研究会",{"$f":"VLOOKUP(C411,'[1]CSSCI（2014-2015）来源期刊目录'!$B$2:$F$534,5,0)","v":"1002-1566"},"11-2242/O1","统计学（4种）"]
[410,"4-2","统计研究","中国统计学会、国家统计局统计科学研究所",{"$f":"VLOOKUP(C412,'[1]CSSCI（2014-2015）来源期刊目录'!$B$2:$F$534,5,0)","v":"1002-4565"},"11-1302/C","统计学（4种）"]
[411,"4-3","统计与决策","湖北省统计局统计科学研究所",{"$f":"VLOOKUP(C413,'[1]CSSCI（2014-2015）来源期刊目录'!$B$2:$F$534,5,0)","v":"1002-6487"},"42-1009/C","统计学（4种）"]
[412,"4-4","统计与信息论坛","西安财经学院、中国统计教育学会高教分会",{"$f":"VLOOKUP(C414,'[1]CSSCI（2014-2015）来源期刊目录'!$B$2:$F$534,5,0)","v":"1007-3116"},"61-1421/C","统计学（4种）"]
[413,"7-1","心理发展与教育","北京师范大学",{"$f":"VLOOKUP(C415,'[1]CSSCI（2014-2015）来源期刊目录'!$B$2:$F$534,5,0)","v":"1001-4918"},"11-1608/B","心理学（7种）"]
[414,"7-2","心理科学","中国心理学会",{"$f":"VLOOKUP(C416,'[1]CSSCI（2014-2015）来源期刊目录'!$B$2:$F$534,5,0)","v":"1671-6981"},"31-1582/B","心理学（7种）"]
[415,"7-3","心理科学进展","中国科学院心理研究所",{"$f":"VLOOKUP(C417,'[1]CSSCI（2014-2015）来源期刊目录'!$B$2:$F$534,5,0)","v":"1671-3710"},"11-4766/R","心理学（7种）"]
[416,"7-4","心理学报","中国心理学会、中国科学院心理研究所",{"$f":"VLOOKUP(C418,'[1]CSSCI（2014-2015）来源期刊目录'!$B$2:$F$534,5,0)","v":"0439-755X"},"11-1911/B","心理学（7种）"]
[417,"7-5","心理学探新","江西师范大学",{"$f":"VLOOKUP(C419,'[1]CSSCI（2014-2015）来源期刊目录'!$B$2:$F$534,5,0)","v":"1003-5184"},"36-1228/B","心理学（7种）"]
[418,"7-6","心理与行为研究","天津师大心理与行为研究中心",{"$f":"VLOOKUP(C420,'[1]CSSCI（2014-2015）来源期刊目录'!$B$2:$F$534,5,0)","v":"1672-0628"},"12-1348/B","心理学（7种）"]
[419,"7-7","中国临床心理学杂志","中国心理卫生协会",{"$f":"VLOOKUP(C421,'[1]CSSCI（2014-2015）来源期刊目录'!$B$2:$F$534,5,0)","v":"1005-3611"},"43-1214/R","心理学（7种）"]
[420,"12-1","城市发展研究","中国城市科学研究会",{"$f":"VLOOKUP(C422,'[1]CSSCI（2014-2015）来源期刊目录'!$B$2:$F$534,5,0)","v":"1006-3862 "},"11-3504/TU","人文经济地理（12种）","《城市发展研究》《城市问题》从经济学调整为人文经济地理"]
[421,"12-2","城市规划","中国城市规划学会",{"$f":"VLOOKUP(C423,'[1]CSSCI（2014-2015）来源期刊目录'!$B$2:$F$534,5,0)","v":"1674-781X"},"11-2378/TU","人文经济地理（12种）"]
[422,"12-3","城市规划学刊","同济大学建筑城规学院",{"$f":"VLOOKUP(C424,'[1]CSSCI（2014-2015）来源期刊目录'!$B$2:$F$534,5,0)","v":"1000-3363"},"31-1938/TU","人文经济地理（12种）"]
[423,"12-4","城市问题","北京市社会科学院",{"$f":"VLOOKUP(C425,'[1]CSSCI（2014-2015）来源期刊目录'!$B$2:$F$534,5,0)","v":"1002-2031"},"11-1119/C","人文经济地理（12种）"]
[424,"12-5","地理科学","中国科学院东北地理与农业生态研究所","1000-0690","22-1124/P","人文经济地理（12种）","新增"]
[425,"12-6","地理科学进展","中国科学院地理科学与资源研究所","1007-6301","11-3858/P","人文经济地理（12种）","新增"]
[426,"12-7","地理学报","中国科学院地理科学与资源研究所","0375-5444","11-1856/P","人文经济地理（12种）","新增"]
[427,"12-8","地理研究","中国科学院地理科学与资源研究所",{"$f":"VLOOKUP(C429,'[1]CSSCI（2014-2015）来源期刊目录'!$B$2:$F$534,5,0)","v":"1000-0585"},"11-1848/P","人文经济地理（12种）"]
[428,"12-9","经济地理","中国地理学会、湖南省经济地理研究所",{"$f":"VLOOKUP(C430,'[1]CSSCI（2014-2015）来源期刊目录'!$B$2:$F$534,5,0)","v":"1000-8462"},"43-1126/K","人文经济地理（12种）"]
[429,"12-10","旅游科学","上海师范大学旅游学院",{"$f":"VLOOKUP(C431,'[1]CSSCI（2014-2015）来源期刊目录'!$B$2:$F$534,5,0)","v":"1006-575X"},"31-1693/K","人文经济地理（12种）"]
[430,"12-11","旅游学刊","北京联合大学旅游学院",{"$f":"VLOOKUP(C432,'[1]CSSCI（2014-2015）来源期刊目录'!$B$2:$F$534,5,0)","v":"1002-5006"},"11-1120/K","人文经济地理（12种）"]
[431,"12-12","人文地理","西安外国语大学",{"$f":"VLOOKUP(C433,'[1]CSSCI（2014-2015）来源期刊目录'!$B$2:$F$534,5,0)","v":"1003-2398"},"61-1193/K","人文经济地理（12种）"]
[432,"5-1","干旱区资源与环境","中国自然资源学会等",{"$f":"VLOOKUP(C434,'[1]CSSCI（2014-2015）来源期刊目录'!$B$2:$F$534,5,0)","v":"1003-7578"},"15-1112/N","环境科学（5种）"]
[433,"5-2","长江流域资源与环境","中国科学院资源环境科学与技术局等",{"$f":"VLOOKUP(C435,'[1]CSSCI（2014-2015）来源期刊目录'!$B$2:$F$534,5,0)","v":"1004-8227"},"42-1320/X","环境科学（5种）"]
[434,"5-3","中国人口·资源与环境","中国可持续发展研究会",{"$f":"VLOOKUP(C436,'[1]CSSCI（2014-2015）来源期刊目录'!$B$2:$F$534,5,0)","v":"1002-2104"},"37-1196/N","环境科学（5种）"]
[435,"5-4","资源科学","中国科学院地理科学与资源研究所",{"$f":"VLOOKUP(C437,'[1]CSSCI（2014-2015）来源期刊目录'!$B$2:$F$534,5,0)","v":"1007–7588"},"11-3868/N","环境科学（5种）"]
[436,"5-5","自然资源学报","中国自然资源学会等",{"$f":"VLOOKUP(C438,'[1]CSSCI（2014-2015）来源期刊目录'!$B$2:$F$534,5,0)","v":"1000-3037"},"11-1912/N","环境科学（5种）"]
[437,"47-1","北京社会科学","北京市社会科学院",{"$f":"VLOOKUP(C439,'[1]CSSCI（2014-2015）来源期刊目录'!$B$2:$F$534,5,0)","v":"1002-3054"},"11-1105/C","综合社科期刊（47种）","1《湖北社会科学》2《 湖南社会科学》3《兰州学刊》4《社会科学家》5《学术交流》6《学术论坛》7《中国社会科学院研究生院学报》去除"]
[438,"47-2","东疆学刊","延边大学","1002-2007","22-5016/C","综合社科期刊（47种）","新增"]
[439,"47-3","东南学术","福建省社会科学界联合会",{"$f":"VLOOKUP(C441,'[1]CSSCI（2014-2015）来源期刊目录'!$B$2:$F$534,5,0)","v":"1008-1569"},"35-1197/C","综合社科期刊（47种）"]
[440,"47-4","东岳论丛","山东社会科学院",{"$f":"VLOOKUP(C442,'[1]CSSCI（2014-2015）来源期刊目录'!$B$2:$F$534,5,0)","v":"1003-8353"},"37-1062/C","综合社科期刊（47种）"]
[441,"47-5","读书","生活·读书·新知三联书店有限公司",{"$f":"VLOOKUP(C443,'[1]CSSCI（2014-2015）来源期刊目录'!$B$2:$F$534,5,0)","v":"0257-0270"},"11-1073/G2","综合社科期刊（47种）"]
[442,"47-6","福建论坛（人文社会科学版）","福建社会科学院",{"$f":"VLOOKUP(C444,'[1]CSSCI（2014-2015）来源期刊目录'!$B$2:$F$534,5,0)","v":"1672-6847"},"35-1248/C","综合社科期刊（47种）"]
[443,"47-7","甘肃社会科学","甘肃省社会科学院",{"$f":"VLOOKUP(C445,'[1]CSSCI（2014-2015）来源期刊目录'!$B$2:$F$534,5,0)","v":"1003-3637"},"62-1093/C","综合社科期刊（47种）"]
[444,"47-8","广东社会科学","广东省社会科学院",{"$f":"VLOOKUP(C446,'[1]CSSCI（2014-2015）来源期刊目录'!$B$2:$F$534,5,0)","v":"1000-114X"},"44-1067/C","综合社科期刊（47种）"]
[445,"47-9","贵州社会科学","贵州省社会科学院",{"$f":"VLOOKUP(C447,'[1]CSSCI（2014-2015）来源期刊目录'!$B$2:$F$534,5,0)","v":"1002-6924"},"52-1005/C","综合社科期刊（47种）"]
[446,"47-10","国外社会科学","中国社会科学院信息情报研究院",{"$f":"VLOOKUP(C448,'[1]CSSCI（2014-2015）来源期刊目录'!$B$2:$F$534,5,0)","v":"1000-4777"},"11-1163/C","综合社科期刊（47种）"]
[447,"47-11","河北学刊","河北省社会科学院",{"$f":"VLOOKUP(C449,'[1]CSSCI（2014-2015）来源期刊目录'!$B$2:$F$534,5,0)","v":"1003-7071"},"13-1020/C","综合社科期刊（47种）"]
[448,"47-12","河南社会科学","河南省社会科学界联合会",{"$f":"VLOOKUP(C450,'[1]CSSCI（2014-2015）来源期刊目录'!$B$2:$F$534,5,0)","v":"1007-905X"},"41-1213/C","综合社科期刊（47种）"]
[449,"47-13","江海学刊","江苏省社会科学院",{"$f":"VLOOKUP(C451,'[1]CSSCI（2014-2015）来源期刊目录'!$B$2:$F$534,5,0)","v":"1000-856X"},"32-1013/C","综合社科期刊（47种）"]
[450,"47-14","江汉论坛","湖北省社会科学院",{"$f":"VLOOKUP(C452,'[1]CSSCI（2014-2015）来源期刊目录'!$B$2:$F$534,5,0)","v":"1003-854X"},"42-1018/C","综合社科期刊（47种）"]
[451,"47-15","江淮论坛","安徽省社会科学院",{"$f":"VLOOKUP(C453,'[1]CSSCI（2014-2015）来源期刊目录'!$B$2:$F$534,5,0)","v":"1001-862X"},"34-1003/G0","综合社科期刊（47种）"]
[452,"47-16","江苏社会科学","江苏社会科学杂志社",{"$f":"VLOOKUP(C454,'[1]CSSCI（2014-2015）来源期刊目录'!$B$2:$F$534,5,0)","v":"1003-8671"},"32-1312/C","综合社科期刊（47种）"]
[453,"47-17","江西社会科学","江西省社会科学院",{"$f":"VLOOKUP(C455,'[1]CSSCI（2014-2015）来源期刊目录'!$B$2:$F$534,5,0)","v":"1004-518X"},"36-1001/C","综合社科期刊（47种）"]
[454,"47-18","开放时代","广州市社会科学院",{"$f":"VLOOKUP(C456,'[1]CSSCI（2014-2015）来源期刊目录'!$B$2:$F$534,5,0)","v":"1004-2938"},"44-1034/C","综合社科期刊（47种）"]
[455,"47-19","南京社会科学","南京市社会科学界联合会等",{"$f":"VLOOKUP(C457,'[1]CSSCI（2014-2015）来源期刊目录'!$B$2:$F$534,5,0)","v":"1001-8263"},"32-1302/C","综合社科期刊（47种）"]
[456,"47-20","内蒙古社会科学","内蒙古自治区社会科学院",{"$f":"VLOOKUP(C458,'[1]CSSCI（2014-2015）来源期刊目录'!$B$2:$F$534,5,0)","v":"1003-5281"},"15-1011/C","综合社科期刊（47种）"]
[457,"47-21","宁夏社会科学","宁夏社会科学院","1002-0292","64-1001/C","综合社科期刊（47种）","新增"]
[458,"47-22","青海社会科学","青海省社会科学院","1001-2338","63-1001/C","综合社科期刊（47种）","新增"]
[459,"47-23","求索","湖南省社会科学院",{"$f":"VLOOKUP(C461,'[1]CSSCI（2014-2015）来源期刊目录'!$B$2:$F$534,5,0)","v":"1001-490X"},"43-1008/C","综合社科期刊（47种）"]
[460,"47-24","人民论坛·学术前沿","人民日报社","2095-3461","10-1050/C","综合社科期刊（47种）","新增"]
[461,"47-25","人文杂志","陕西省社会科学院",{"$f":"VLOOKUP(C463,'[1]CSSCI（2014-2015）来源期刊目录'!$B$2:$F$534,5,0)","v":"0447-662X"},"61-1005/C","综合社科期刊（47种）"]
[462,"47-26","山东社会科学","山东省社会科学界联合会",{"$f":"VLOOKUP(C464,'[1]CSSCI（2014-2015）来源期刊目录'!$B$2:$F$534,5,0)","v":"1003-4145"},"37-1053/C","综合社科期刊（47种）"]
[463,"47-27","社会科学","上海社会科学院",{"$f":"VLOOKUP(C465,'[1]CSSCI（2014-2015）来源期刊目录'!$B$2:$F$534,5,0)","v":"0257-5833"},"31-1112/C","综合社科期刊（47种）"]
[464,"47-28","社会科学辑刊","辽宁社会科学院",{"$f":"VLOOKUP(C466,'[1]CSSCI（2014-2015）来源期刊目录'!$B$2:$F$534,5,0)","v":"1001-6198"},"21-1012/C","综合社科期刊（47种）"]
[465,"47-29","社会科学研究","四川省社会科学院",{"$f":"VLOOKUP(C467,'[1]CSSCI（2014-2015）来源期刊目录'!$B$2:$F$534,5,0)","v":"1000-4769"},"51-1037/C","综合社科期刊（47种）"]
[466,"47-30","社会科学战线","吉林省社会科学院",{"$f":"VLOOKUP(C468,'[1]CSSCI（2014-2015）来源期刊目录'!$B$2:$F$534,5,0)","v":"0257-0246"},"22-1002/C","综合社科期刊（47种）"]
[467,"47-31","思想战线","云南大学",{"$f":"VLOOKUP(C469,'[1]CSSCI（2014-2015）来源期刊目录'!$B$2:$F$534,5,0)","v":"1001-778X"},"53-1002/C","综合社科期刊（47种）"]
[468,"47-32","探索与争鸣","上海市社会科学界联合会",{"$f":"VLOOKUP(C470,'[1]CSSCI（2014-2015）来源期刊目录'!$B$2:$F$534,5,0)","v":"1004-2229"},"31-1208/C","综合社科期刊（47种）"]
[469,"47-33","天津社会科学","天津社会科学院",{"$f":"VLOOKUP(C471,'[1]CSSCI（2014-2015）来源期刊目录'!$B$2:$F$534,5,0)","v":"1002-3976"},"12-1047/C","综合社科期刊（47种）"]
[470,"47-34","文史哲","山东大学",{"$f":"VLOOKUP(C472,'[1]CSSCI（2014-2015）来源期刊目录'!$B$2:$F$534,5,0)","v":"0511-4721"},"37-1101/C","综合社科期刊（47种）"]
[471,"47-35","新疆社会科学","新疆社会科学院",{"$f":"VLOOKUP(C473,'[1]CSSCI（2014-2015）来源期刊目录'!$B$2:$F$534,5,0)","v":"1009-5330"},"65-1211/F","综合社科期刊（47种）"]
[472,"47-36","学海","江苏省社会科学院",{"$f":"VLOOKUP(C474,'[1]CSSCI（2014-2015）来源期刊目录'!$B$2:$F$534,5,0)","v":"1001-9790"},"32-1308/C","综合社科期刊（47种）"]
[473,"47-37","学术界","安徽省社会科学界联合会",{"$f":"VLOOKUP(C475,'[1]CSSCI（2014-2015）来源期刊目录'!$B$2:$F$534,5,0)","v":"1002-1698"},"34-1004/C","综合社科期刊（47种）"]
[474,"47-38","学术研究","广东省社会科学界联合会",{"$f":"VLOOKUP(C476,'[1]CSSCI（2014-2015）来源期刊目录'!$B$2:$F$534,5,0)","v":"1000-7326"},"44-1070","综合社科期刊（47种）"]
[475,"47-39","学术月刊","上海市社会科学界联合会",{"$f":"VLOOKUP(C477,'[1]CSSCI（2014-2015）来源期刊目录'!$B$2:$F$534,5,0)","v":"0439-8041"},"31-1096/C","综合社科期刊（47种）"]
[476,"47-40","学习与实践","武汉市社会科学院",{"$f":"VLOOKUP(C478,'[1]CSSCI（2014-2015）来源期刊目录'!$B$2:$F$534,5,0)","v":"1004-0730"},"42-1005/C","综合社科期刊（47种）"]
[477,"47-41","学习与探索","黑龙江省社会科学院",{"$f":"VLOOKUP(C479,'[1]CSSCI（2014-2015）来源期刊目录'!$B$2:$F$534,5,0)","v":"1002-462X"},"23-1049/C","综合社科期刊（47种）"]
[478,"47-42","云南社会科学","云南省社会科学院",{"$f":"VLOOKUP(C480,'[1]CSSCI（2014-2015）来源期刊目录'!$B$2:$F$534,5,0)","v":"1000-8691"},"53-1001/C","综合社科期刊（47种）"]
[479,"47-43","浙江社会科学","浙江省社会科学界联合会",{"$f":"VLOOKUP(C481,'[1]CSSCI（2014-2015）来源期刊目录'!$B$2:$F$534,5,0)","v":"1004-2253"},"33-1149/C","综合社科期刊（47种）"]
[480,"47-44","浙江学刊","浙江省社会科学院",{"$f":"VLOOKUP(C482,'[1]CSSCI（2014-2015）来源期刊目录'!$B$2:$F$534,5,0)","v":"1003-420X"},"33-1005/C","综合社科期刊（47种）"]
[481,"47-45","中国高校社会科学","教育部高校社会科学发展研究中心",{"$f":"VLOOKUP(C483,'[1]CSSCI（2014-2015）来源期刊目录'!$B$2:$F$534,5,0)","v":"2095-5804"},"10-1136/C","综合社科期刊（47种）"]
[482,"47-46","中国社会科学","中国社会科学院",{"$f":"VLOOKUP(C484,'[1]CSSCI（2014-2015）来源期刊目录'!$B$2:$F$534,5,0)","v":"1002-4921"},"11-1211/C","综合社科期刊（47种）"]
[483,"47-47","中州学刊","河南省社会科学院",{"$f":"VLOOKUP(C485,'[1]CSSCI（2014-2015）来源期刊目录'!$B$2:$F$534,5,0)","v":"1003-0751"},"41-1006/C","综合社科期刊（47种）"]
[484,"70-1","安徽大学学报（哲学社会科学版）","安徽大学",{"$f":"VLOOKUP(C486,'[1]CSSCI（2014-2015）来源期刊目录'!$B$2:$F$534,5,0)","v":"1001-5019"},"34-1040/C","高校综合性学报（70种）","1《华东理工大学学报》；2《陕西师范大学学报（哲学社会科学版）》；3《深圳大学学报（人文社会科学版）》；4《天津师范大学学报（社会科学版）》；5《同济大学学报（社会科学版）》；6《武汉大学学报（人文科学版）》；7《西北大学学报（哲学社会科学版）》去除"]
[485,"70-2","安徽师范大学学报（人文社会科学版）","安徽师范大学","1001-2435","34-1041/C","高校综合性学报（70种）","新增"]
[486,"70-3","北京大学学报（哲学社会科学版）","北京大学",{"$f":"VLOOKUP(C488,'[1]CSSCI（2014-2015）来源期刊目录'!$B$2:$F$534,5,0)","v":"1000-5919"},"11-1561/C","高校综合性学报（70种）"]
[487,"70-4","北京工商大学学报（社会科学版）","北京工商大学",{"$f":"VLOOKUP(C489,'[1]CSSCI（2014-2015）来源期刊目录'!$B$2:$F$534,5,0)","v":"1009-6116"},"11-4509/C","高校综合性学报（70种）"]
[488,"70-5","北京理工大学学报（社会科学版）","北京理工大学",{"$f":"VLOOKUP(C490,'[1]CSSCI（2014-2015）来源期刊目录'!$B$2:$F$534,5,0)","v":"1009-3370"},"11-4083/C","高校综合性学报（70种）"]
[489,"70-6","北京联合大学学报（人文社会科学版）","北京联合大学",{"$f":"VLOOKUP(C491,'[1]CSSCI（2014-2015）来源期刊目录'!$B$2:$F$534,5,0)","v":"1672-4917"},"11-5117/C","高校综合性学报（70种）"]
[490,"70-7","北京师范大学学报（社会科学版）","北京师范大学",{"$f":"VLOOKUP(C492,'[1]CSSCI（2014-2015）来源期刊目录'!$B$2:$F$534,5,0)","v":"1002-0209"},"11-1514/C","高校综合性学报（70种）"]
[491,"70-8","大连理工大学学报（社会科学版）","大连理工大学",{"$f":"VLOOKUP(C493,'[1]CSSCI（2014-2015）来源期刊目录'!$B$2:$F$534,5,0)","v":"1008-407X"},"21-1383/C","高校综合性学报（70种）"]
[492,"70-9","东北大学学报（社会科学版）","东北大学",{"$f":"VLOOKUP(C494,'[1]CSSCI（2014-2015）来源期刊目录'!$B$2:$F$534,5,0)","v":"1008-3758"},"21-1413/G4","高校综合性学报（70种）"]
[493,"70-10","东北师大学报（哲学社会科学版）","东北师范大学",{"$f":"VLOOKUP(C495,'[1]CSSCI（2014-2015）来源期刊目录'!$B$2:$F$534,5,0)","v":"1001-6201"},"22-1062/C","高校综合性学报（70种）"]
[494,"70-11","东南大学学报（哲学社会科学版）","东南大学",{"$f":"VLOOKUP(C496,'[1]CSSCI（2014-2015）来源期刊目录'!$B$2:$F$534,5,0)","v":"1671-511X"},"32-1517/C","高校综合性学报（70种）"]
[495,"70-12","福建师范大学学报（哲学社会科学版）","福建师范大学",{"$f":"VLOOKUP(C497,'[1]CSSCI（2014-2015）来源期刊目录'!$B$2:$F$534,5,0)","v":"1000-5285"},"35-1016/C","高校综合性学报（70种）"]
[496,"70-13","复旦学报（社会科学版）","复旦大学",{"$f":"VLOOKUP(C498,'[1]CSSCI（2014-2015）来源期刊目录'!$B$2:$F$534,5,0)","v":"0257-0289"},"31-1142/C","高校综合性学报（70种）"]
[497,"70-14","海南大学学报（人文社会科学版）","海南大学",{"$f":"VLOOKUP(C499,'[1]CSSCI（2014-2015）来源期刊目录'!$B$2:$F$534,5,0)","v":"1004-1710"},"46-1012/C","高校综合性学报（70种）"]
[498,"70-15","河海大学学报（哲学社会科学版）","河海大学",{"$f":"VLOOKUP(C500,'[1]CSSCI（2014-2015）来源期刊目录'!$B$2:$F$534,5,0)","v":"1671-4970"},"32-1521/C","高校综合性学报（70种）"]
[499,"70-16","河南大学学报（社会科学版）","河南大学",{"$f":"VLOOKUP(C501,'[1]CSSCI（2014-2015）来源期刊目录'!$B$2:$F$534,5,0)","v":"1000-5242"},"41-1028/C","高校综合性学报（70种）"]
[500,"70-17","河南师范大学学报（哲学社会科学版）","河南师范大学",{"$f":"VLOOKUP(C502,'[1]CSSCI（2014-2015）来源期刊目录'!$B$2:$F$534,5,0)","v":"1000-2359"},"41-1011/C","高校综合性学报（70种）"]
[501,"70-18","湖北大学学报（哲学社会科学版）","湖北大学",{"$f":"VLOOKUP(C503,'[1]CSSCI（2014-2015）来源期刊目录'!$B$2:$F$534,5,0)","v":"1001-4799"},"42-1020/C","高校综合性学报（70种）"]
[502,"70-19","湖南大学学报（社会科学版）","湖南大学",{"$f":"VLOOKUP(C504,'[1]CSSCI（2014-2015）来源期刊目录'!$B$2:$F$534,5,0)","v":"1008-1763"},"43-1286/C","高校综合性学报（70种）"]
[503,"70-20","湖南科技大学学报（社会科学版）","湖南科技大学",{"$f":"VLOOKUP(C505,'[1]CSSCI（2014-2015）来源期刊目录'!$B$2:$F$534,5,0)","v":"1672-7835"},"43-1436/C","高校综合性学报（70种）"]
[504,"70-21","湖南师范大学社会科学学报","湖南师范大学",{"$f":"VLOOKUP(C506,'[1]CSSCI（2014-2015）来源期刊目录'!$B$2:$F$534,5,0)","v":"1000-2529"},"43-1165/C","高校综合性学报（70种）"]
[505,"70-22","华东师范大学学报（哲学社会科学版）","华东师范大学",{"$f":"VLOOKUP(C507,'[1]CSSCI（2014-2015）来源期刊目录'!$B$2:$F$534,5,0)","v":"1000-5579"},"31-1010/C","高校综合性学报（70种）"]
[506,"70-23","华南农业大学学报（社会科学版）","华南农业大学",{"$f":"VLOOKUP(C508,'[1]CSSCI（2014-2015）来源期刊目录'!$B$2:$F$534,5,0)","v":"1672-0202"},"44-1559/C","高校综合性学报（70种）"]
[507,"70-24","华南师范大学学报（社会科学版）","华南师范大学",{"$f":"VLOOKUP(C509,'[1]CSSCI（2014-2015）来源期刊目录'!$B$2:$F$534,5,0)","v":"1000-5455"},"44-1139/C","高校综合性学报（70种）"]
[508,"70-25","华中科技大学学报（社会科学版）","华中科技大学",{"$f":"VLOOKUP(C510,'[1]CSSCI（2014-2015）来源期刊目录'!$B$2:$F$534,5,0)","v":"1671-7023"},"42-1673/C","高校综合性学报（70种）"]
[509,"70-26","华中农业大学学报（社会科学版）","华中农业大学","1008-3456","42-1558/C","高校综合性学报（70种）","新增"]
[510,"70-27","华中师范大学学报（人文社会科学版）","华中师范大学",{"$f":"VLOOKUP(C512,'[1]CSSCI（2014-2015）来源期刊目录'!$B$2:$F$534,5,0)","v":"1000-2456"},"42-1040/C","高校综合性学报（70种）"]
[511,"70-28","吉林大学社会科学学报","吉林大学",{"$f":"VLOOKUP(C513,'[1]CSSCI（2014-2015）来源期刊目录'!$B$2:$F$534,5,0)","v":"0257-2834"},"22-1063/C","高校综合性学报（70种）"]
[512,"70-29","吉首大学学报（社会科学版）","吉首大学","1007-4074","43-1069/C","高校综合性学报（70种）","新增"]
[513,"70-30","暨南学报（哲学社会科学版）","暨南大学",{"$f":"VLOOKUP(C515,'[1]CSSCI（2014-2015）来源期刊目录'!$B$2:$F$534,5,0)","v":"1000-5072"},"44-1285/C","高校综合性学报（70种）"]
[514,"70-31","江西师范大学学报（哲学社会科学版）","江西师范大学","1000-579X","36-1025/C","高校综合性学报（70种）","新增"]
[515,"70-32","兰州大学学报（社会科学版）","兰州大学",{"$f":"VLOOKUP(C517,'[1]CSSCI（2014-2015）来源期刊目录'!$B$2:$F$534,5,0)","v":"1000-2804"},"62-1029/C","高校综合性学报（70种）"]
[516,"70-33","南京大学学报（哲学·人文科学·社会科学）","南京大学",{"$f":"VLOOKUP(C518,'[1]CSSCI（2014-2015）来源期刊目录'!$B$2:$F$534,5,0)","v":"1007-7278"},"32-1084/C","高校综合性学报（70种）"]
[517,"70-34","南京农业大学学报（社会科学版）","南京农业大学",{"$f":"VLOOKUP(C519,'[1]CSSCI（2014-2015）来源期刊目录'!$B$2:$F$534,5,0)","v":"1671-7465"},"32-1600/C","高校综合性学报（70种）"]
[518,"70-35","南京师大学报（社会科学版）","南京师范大学",{"$f":"VLOOKUP(C520,'[1]CSSCI（2014-2015）来源期刊目录'!$B$2:$F$534,5,0)","v":"1001-4608"},"32-1030/C","高校综合性学报（70种）"]
[519,"70-36","南开学报（哲学社会科学版）","南开大学",{"$f":"VLOOKUP(C521,'[1]CSSCI（2014-2015）来源期刊目录'!$B$2:$F$534,5,0)","v":"1001-4667"},"12-1027/C","高校综合性学报（70种）"]
[520,"70-37","南通大学学报（社会科学版）","南通大学",{"$f":"VLOOKUP(C522,'[1]CSSCI（2014-2015）来源期刊目录'!$B$2:$F$534,5,0)","v":"1673-2359"},"32-1754/C","高校综合性学报（70种）"]
[521,"70-38","齐鲁学刊","曲阜师范大学","1001-022X","37-1085/C","高校综合性学报（70种）","新增"]
[522,"70-39","清华大学学报（哲学社会科学版）","清华大学",{"$f":"VLOOKUP(C524,'[1]CSSCI（2014-2015）来源期刊目录'!$B$2:$F$534,5,0)","v":"1000-0062"},"11-3596/C","高校综合性学报（70种）"]
[523,"70-40","求是学刊","黑龙江大学",{"$f":"VLOOKUP(C525,'[1]CSSCI（2014-2015）来源期刊目录'!$B$2:$F$534,5,0)","v":"1000-7504"},"23-1070/C","高校综合性学报（70种）"]
[524,"70-41","厦门大学学报（哲学社会科学版）","厦门大学",{"$f":"VLOOKUP(C526,'[1]CSSCI（2014-2015）来源期刊目录'!$B$2:$F$534,5,0)","v":"0438-0460"},"35-1019/C","高校综合性学报（70种）"]
[525,"70-42","山东大学学报（哲学社会科学版）","山东大学",{"$f":"VLOOKUP(C527,'[1]CSSCI（2014-2015）来源期刊目录'!$B$2:$F$534,5,0)","v":"1001-9839"},"37-1100/C","高校综合性学报（70种）"]
[526,"70-43","山西大学学报（哲学社会科学版）","山西大学",{"$f":"VLOOKUP(C528,'[1]CSSCI（2014-2015）来源期刊目录'!$B$2:$F$534,5,0)","v":"1000-5935"},"14-1071/C","高校综合性学报（70种）"]
[527,"70-44","上海大学学报（社会科学版）","上海大学",{"$f":"VLOOKUP(C529,'[1]CSSCI（2014-2015）来源期刊目录'!$B$2:$F$534,5,0)","v":"1007-6522"},"31-1223/C","高校综合性学报（70种）"]
[528,"70-45","上海交通大学学报（哲学社会科学版）","上海交通大学",{"$f":"VLOOKUP(C530,'[1]CSSCI（2014-2015）来源期刊目录'!$B$2:$F$534,5,0)","v":"1008-7095"},"31-1778/C","高校综合性学报（70种）"]
[529,"70-46","上海师范大学学报（哲学社会科学版）","上海师范大学",{"$f":"VLOOKUP(C531,'[1]CSSCI（2014-2015）来源期刊目录'!$B$2:$F$534,5,0)","v":"1004-8634"},"31-1120/C","高校综合性学报（70种）"]
[530,"70-47","首都师范大学学报（社会科学版）","首都师范大学",{"$f":"VLOOKUP(C532,'[1]CSSCI（2014-2015）来源期刊目录'!$B$2:$F$534,5,0)","v":"1004-9142"},"11-3188/C","高校综合性学报（70种）"]
[531,"70-48","四川大学学报（哲学社会科学版）","四川大学",{"$f":"VLOOKUP(C533,'[1]CSSCI（2014-2015）来源期刊目录'!$B$2:$F$534,5,0)","v":"1006-0766"},"51-1099/C","高校综合性学报（70种）"]
[532,"70-49","四川师范大学学报（社会科学版）","四川师范大学",{"$f":"VLOOKUP(C534,'[1]CSSCI（2014-2015）来源期刊目录'!$B$2:$F$534,5,0)","v":"1000-5315"},"51-1063/C","高校综合性学报（70种）"]
[533,"70-50","苏州大学学报（哲学社会科学版）","苏州大学",{"$f":"VLOOKUP(C535,'[1]CSSCI（2014-2015）来源期刊目录'!$B$2:$F$534,5,0)","v":"1001-4403"},"32-1033/C","高校综合性学报（70种）"]
[534,"70-51","武汉大学学报（哲学社会科学版）","武汉大学",{"$f":"VLOOKUP(C536,'[1]CSSCI（2014-2015）来源期刊目录'!$B$2:$F$534,5,0)","v":"1672-7320"},"42-1071/C","高校综合性学报（70种）"]
[535,"70-52","西安交通大学学报（社会科学版）","西安交通大学",{"$f":"VLOOKUP(C537,'[1]CSSCI（2014-2015）来源期刊目录'!$B$2:$F$534,5,0)","v":"1008-245X"},"61-1329/C","高校综合性学报（70种）"]
[536,"70-53","西北农林科技大学学报（社会科学版）","西北农林科技大学",{"$f":"VLOOKUP(C538,'[1]CSSCI（2014-2015）来源期刊目录'!$B$2:$F$534,5,0)","v":"1009-9107"},"61-1376/C","高校综合性学报（70种）"]
[537,"70-54","西北师大学报（社会科学版）","西北师范大学",{"$f":"VLOOKUP(C539,'[1]CSSCI（2014-2015）来源期刊目录'!$B$2:$F$534,5,0)","v":"1001-9162"},"62-1086/C","高校综合性学报（70种）"]
[538,"70-55","西藏大学学报（社会科学版）","西藏大学",{"$f":"VLOOKUP(C540,'[1]CSSCI（2014-2015）来源期刊目录'!$B$2:$F$534,5,0)","v":"1005-5738"},"54-1034/C","高校综合性学报（70种）"]
[539,"70-56","西南大学学报（社会科学版）","西南大学",{"$f":"VLOOKUP(C541,'[1]CSSCI（2014-2015）来源期刊目录'!$B$2:$F$534,5,0)","v":"1673-9844"},"50-1188/C","高校综合性学报（70种）"]
[540,"70-57","湘潭大学学报（哲学社会科学版）","湘潭大学",{"$f":"VLOOKUP(C542,'[1]CSSCI（2014-2015）来源期刊目录'!$B$2:$F$534,5,0)","v":"1001-5981"},"43-1164/C","高校综合性学报（70种）"]
[541,"70-58","新疆大学学报（哲学人文社会科学版）","新疆大学",{"$f":"VLOOKUP(C543,'[1]CSSCI（2014-2015）来源期刊目录'!$B$2:$F$534,5,0)","v":"1000-2820"},"65-1034/G4","高校综合性学报（70种）"]
[542,"70-59","新疆师范大学学报（哲学社会科学版）","新疆师范大学",{"$f":"VLOOKUP(C544,'[1]CSSCI（2014-2015）来源期刊目录'!$B$2:$F$534,5,0)","v":"1005-9245"},"65-1039/G4","高校综合性学报（70种）"]
[543,"70-60","烟台大学学报（哲学社会科学版）","烟台大学","1002-3194","37-1104/C","高校综合性学报（70种）","新增"]
[544,"70-61","云南师范大学学报（哲学社会科学版）","云南师范大学",{"$f":"VLOOKUP(C546,'[1]CSSCI（2014-2015）来源期刊目录'!$B$2:$F$534,5,0)","v":"1000-5110"},"53-1003/C","高校综合性学报（70种）"]
[545,"70-62","浙江大学学报（人文社会科学版）","浙江大学",{"$f":"VLOOKUP(C547,'[1]CSSCI（2014-2015）来源期刊目录'!$B$2:$F$534,5,0)","v":"1008-942X"},"33-1237/C","高校综合性学报（70种）"]
[546,"70-63","浙江工商大学学报","浙江工商大学","1009-1505","33-1337/C","高校综合性学报（70种）","新增"]
[547,"70-64","郑州大学学报（哲学社会科学版）","郑州大学",{"$f":"VLOOKUP(C549,'[1]CSSCI（2014-2015）来源期刊目录'!$B$2:$F$534,5,0)","v":"1001-8204"},"41-1027/C","高校综合性学报（70种）"]
[548,"70-65","中国地质大学学报（社会科学版）","中国地质大学",{"$f":"VLOOKUP(C550,'[1]CSSCI（2014-2015）来源期刊目录'!$B$2:$F$534,5,0)","v":"1671-0169"},"42-1627/C","高校综合性学报（70种）"]
[549,"70-66","中国农业大学学报（社会科学版）","中国农业大学",{"$f":"VLOOKUP(C551,'[1]CSSCI（2014-2015）来源期刊目录'!$B$2:$F$534,5,0)","v":"1009-508X"},"11-4084/S","高校综合性学报（70种）"]
[550,"70-67","中国人民大学学报","中国人民大学",{"$f":"VLOOKUP(C552,'[1]CSSCI（2014-2015）来源期刊目录'!$B$2:$F$534,5,0)","v":"1000-5420"},"11-1476/C","高校综合性学报（70种）"]
[551,"70-68","中南大学学报（社会科学版）","中南大学",{"$f":"VLOOKUP(C553,'[1]CSSCI（2014-2015）来源期刊目录'!$B$2:$F$534,5,0)","v":"1008-4061"},"43-1393/C","高校综合性学报（70种）"]
[552,"70-69","中山大学学报（社会科学版）","中山大学",{"$f":"VLOOKUP(C554,'[1]CSSCI（2014-2015）来源期刊目录'!$B$2:$F$534,5,0)","v":"1000-9639"},"44-1158/C","高校综合性学报（70种）"]
[553,"70-70","重庆大学学报（社会科学版）","重庆大学",{"$f":"VLOOKUP(C555,'[1]CSSCI（2014-2015）来源期刊目录'!$B$2:$F$534,5,0)","v":"1008-5831"},"50-1023/C","高校综合性学报（70种）"]

{"sheet":"Sheet2","index":1,"n_rows":554,"n_cols":3,"rows_kept":554}
["期刊名称","主办单位","ISSN"]
["当代世界社会主义问题","山东大学当代社会主义研究所","1001-5574"]
["当代世界与社会主义","中共中央编译局","1005-6505"]
["党的文献","中共中央文献研究室、中央档案馆","1005-1597"]
["党建","中共中央宣传部","1002-9702"]
["党史研究与教学","中共福建省委党校、福建省中共党史学会","1003-708X"]
["国外理论动态","中共中央编译局","1674-1277"]
["红旗文稿","求是杂志社","2095-1817"]
["教学与研究","中国人民大学11-1454/G4","0257-2826"]
["科学社会主义","中国科学社会主义学会","1002-1493"]
["马克思主义理论学科研究","高等教育出版社","2096-1138"]
["马克思主义研究","马克思主义研究院马克思主义研究学部","1006-5199"]
["马克思主义与现实","中共中央编译局","1004-5961"]
["毛泽东邓小平理论研究","上海社会科学院等","1005-8273"]
["南京政治学院学报","解放军南京政治学院","1001-9774"]
["求是","中国共产党中央委员会","1002-4980"]
["社会主义研究","华中师范大学","1001-4527"]
["思想教育研究","全国高等学校思想政治教育研究会等","1002-5707"]
["思想理论教育","上海市高等学校思想理论教育研究会等","1007-192X"]
["思想理论教育导刊","高等教育出版社","1009-2528"]
["中共党史研究","中共党史研究室","1003-3815"]
["中国特色社会主义研究","北京市社会科学界联合会等","1006-6470"]
["公共管理学报","哈尔滨工业大学管理学院","1672-6162"]
["管理工程学报","浙江大学","1004-6062"]
["管理科学","哈尔滨工业大学管理学院","1672-0334"]
["管理科学学报","国家自然科学基金委员会管理科学部等","1007-9807"]
["管理评论","中国科学院大学","1003-1952"]
["管理世界","中华人民共和国国务院发展研究中心","1002-5502"]
["管理学报","华中科技大学","1672-884X"]
["华东经济管理","安徽经济管理学院","1007-5097"]
["经济管理","中国社会科学院工业经济研究所","1002-5766"]
["经济体制改革","四川省社会科学院","1006-012X"]
["科技进步与对策","湖北省科技信息研究院","1001-7348"]
["科学管理研究","内蒙古自治区软科学研究会","1004-115X"]
["科学决策","中国社会经济系统分析研究会等","1006-4885"]
["科学学研究","中国科学学与科技政策研究会","1003-2053"]
["科学学与科学技术管理","中国科学学与科技政策研究会等","1002-0241"]
["科研管理","中国科学院科技政策与管理科学研究所等","1000-2995"]
["南开管理评论","南开大学商学院","1008-3448"]
["软科学","四川省科技促进发展研究中心","1001—8409"]
["社会保障评论","中国社会保障学会","2096-3211"]
["外国经济与管理","上海财经大学","1001-4950"]
["系统工程","湖南省系统工程与管理学会","1001-4098"]
["系统工程理论与实践","中国系统工程学会","1000-6788"]
["系统管理学报","上海交通大学","1005-2542"]
["研究与发展管理","复旦大学","1004-8308"]
["预测","合肥工业大学预测与发展研究所","1003-5192"]
["中国管理科学","中国科学院科技政策与管理科学研究所等","1003-207X"]
["中国行政管理","中国行政管理学会","1006-0863"]
["中国科技论坛","中国科学技术发展战略研究院","1002-6711"]
["中国软科学","中国软科学研究会","1002-9753"]
["道德与文明","中国伦理学会、天津社会科学院","1007-1539"]
["科学技术哲学研究","山西大学、山西省自然辩证法研究会","1674-7062"]
["孔子研究","中国孔子基金会","1002-2627"]
["伦理学研究","湖南师范大学伦理学研究所","1671-9115"]
["逻辑学研究","中山大学","1674-3202"]
["世界哲学","中国社会科学院哲学研究所","1671-4318"]
["现代哲学","广东哲学学会","1000-7660"]
["哲学动态","中国社会科学院哲学研究所","1002-8862"]
["哲学研究","中国社会科学院哲学研究所","1000-0216"]
["中国哲学史","中国哲学史学会","1005-0396"]
["周易研究","山东大学、中国周易学会","1003-3882"]
["自然辩证法通讯","中国科学院大学","1000-0763"]
["自然辩证法研究","中国自然辩证法研究会","1000-8934"]
["世界宗教文化","中国社会科学院世界宗教研究所","1007-6255"]
["世界宗教研究","中国社会科学院世界宗教研究所","1000-4289"]
["宗教学研究","四川大学道教与宗教文化研究所","1006-1312"]
["当代修辞学","复旦大学","1674-8026"]
["当代语言学","中国社会科学院语言研究所","1007-8274"]
["方言","中国社会科学院语言研究所","0257-0203"]
["古汉语研究","湖南师范大学","1001-5442"]
["汉语学报","华中师范大学","1672-9501"]
["民族语文","中国社会科学院民族学与人类学研究所","0257-5779"]
["世界汉语教学","北京语言大学","1002-5804"]
["外国语","上海外国语大学","1004-5139"]
["外语电化教学","上海外国语大学","1001-5795"]
["外语教学","西安外国语大学","1000-5544"]
["外语教学理论与实践","华东师范大学外语学院","1674-1234"]
["外语教学与研究","北京外国语大学","1000-0429"]
["外语界","上海外国语大学","1004-5112"]
["外语研究","中国人民解放军国际关系学院","1005-7242"]
["外语与外语教学","大连外国语大学","1004-6038"]
["现代外语","广东外语外贸大学","1003-6105"]
["语文研究","山西省社会科学院","1000-2979"]
["语言教学与研究","北京语言大学","0257-9448"]
["语言科学","江苏师范大学语言研究所","1671-9484"]
["语言文字应用","教育部语言文字应用研究所","1003-5397"]
["语言研究","华中科技大学中国语言研究所","1000-1263"]
["中国翻译","中国外文局对外传播研究中心等","1000-873X"]
["中国外语","高等教育出版社","1672-9382"]
["中国语文","中国社会科学院语言研究所","0578-1949"]
["当代外国文学","南京大学外国文学研究所","1001-1757"]
["俄罗斯文艺","北京师范大学","1005-7684"]
["国外文学","北京大学","1002-5014"]
["外国文学","北京外国语大学","1002-5529"]
["外国文学评论","中国社会科学院外国文学研究所","1001-6368"]
["外国文学研究","华中师范大学文学院","1003-7519"]
["当代作家评论","辽宁省作家协会","1002-1809"]
["鲁迅研究月刊","北京鲁迅博物馆","1003-0638"]
["民族文学研究","中国社会科学院民族文学研究所","1002-9559"]
["明清小说研究","江苏省社会科学院文学研究所等","1004-3330"]
["南方文坛","广西文联","1003-7772"]
["文学评论","中国社会科学院文学研究所","0511-4683"]
["文学遗产","中国社会科学院文学研究所","0257-5914"]
["文艺理论研究","中国文艺理论学会、华东师范大学","0257-0254"]
["文艺理论与批评","中国艺术研究院","1002-9583"]
["文艺争鸣","吉林省文学艺术界联合会","1003-9538"]
["小说评论","陕西省作家协会","1004-2164"]
["新文学史料","人民文学出版社","0257-5647"]
["扬子江评论","江苏省作家协会","1009-542X"]
["中国比较文学","上海外国语大学、中国比较文学学会","1006-6101"]
["中国文学研究","湖南师范大学","1003-7535"]
["中国现代文学研究丛刊","中国现代文学馆","1003-0263"]
["北京电影学院学报","北京电影学院","1002-6142"]
["北京舞蹈学院学报","北京舞蹈学院","1008-2018"]
["当代电影","中国电影艺术研究中心等","1002-4646"]
["电影艺术","中国电影家协会","0257-0181"]
["建筑学报","中国建筑学会","0529-1399"]
["美术","中国美术家协会","1003-1774"]
["美术研究","中央美术学院","0461-6855"]
["民族艺术","广西民族文化艺术研究院","1003-2568"]
["南京艺术学院学报（美术与设计版）","南京艺术学院","1008-9675"]
["世界电影","中国电影家协会","1002-9966"]
["文艺研究","中国艺术研究院","0257-5876"]
["戏剧艺术（上海戏剧学院学报）","上海戏剧学院","0257-943X"]
["戏曲艺术","中国戏曲学院","1002-8927"]
["新美术","中国美术学院","1674-2249"]
["艺术百家","江苏省文化艺术研究院","1003-9104"]
["艺术设计研究","北京服装学院","1674-7518"]
["音乐研究","人民音乐出版社有限公司","0512-7939"]
["音乐艺术（上海音乐学院学报）","上海音乐学院","1000-4270"]
["中国电视","中国电视艺术委员会","1002-4751"]
["中国书法","中国书法家协会等","1003-1782\n"]
["中国音乐学","中国艺术研究院","1003-0042"]
["中央音乐学院学报","中央音乐学院","1001-9871"]
["安徽史学","安徽省社会科学院","1005-605X"]
["当代中国史研究","当代中国研究所","1005-4952"]
["东南文化","南京博物院","1001-179X"]
["古代文明","东北师范大学世界古典文明史研究所","1004-9371"]
["国际汉学","北京外国语大学","2095-9257"]
["华侨华人历史研究","中国华侨华人历史研究所","1002-5162"]
["近代史研究","中国社会科学院近代史研究所","1001-6708"]
["抗日战争研究","中国社会科学院近代史研究所等","1002-9575"]
["历史档案","中国第一历史档案馆","1001-7755"]
["历史教学","历史教学社","0457-6241"]
["历史研究","中国社会科学院","0459-1909"]
["清史研究","中国人民大学清史研究所","1002-8587"]
["史林","上海社会科学院历史研究所","1007-1873"]
["史学集刊","吉林大学","0559-8095"]
["史学理论研究","中国社会科学院世界历史研究所","1004-0013"]
["史学史研究","北京师范大学历史学院史学研究所","1002-5332"]
["史学月刊","河南大学、河南省历史学会","0583-0214"]
["世界历史","中国社会科学院世界历史研究所","1002-011X"]
["文史","中华书局","0511-4713"]
["西域研究","新疆社会科学院","1002-4743"]
["中国边疆史地研究","中国社会科学院中国边疆研究所","1002-6800"]
["中国经济史研究","中国社会科学院经济研究所","1002-8005"]
["中国历史地理论丛","陕西师范大学","1001-5205"]
["中国农史","中国农业历史学会等","1000-4459"]
["中国社会经济史研究","厦门大学历史研究所","1000-422X"]
["中国史研究","中国社会科学院历史研究所","1002-7963"]
["中华文史论丛","上海古籍出版社","1002-0039"]
["敦煌学辑刊","兰州大学","1001-6252"]
["故宫博物院院刊","故宫博物院","0452-7402"]
["江汉考古","湖北省文物考古研究所","1001-0327"]
["考古","中国社会科学院考古研究所","0435-2899"]
["考古学报","中国社会科学院考古研究所","0453-2902"]
["考古与文物","陕西省考古研究院","1000-7830"]
["文物","文物出版社","0511-4772"]
["保险研究","中国保险学会","1004-3306"]
["财经科学","西南财经大学","1000-8306"]
["财经理论与实践","湖南大学","1003-7217"]
["财经论丛","浙江财经大学","1004-4892"]
["财经问题研究","东北财经大学","1000-176X"]
["财经研究","上海财经大学","1001-9952"]
["财贸经济","中国社会科学院财经战略研究院","1002-8102"]
["财贸研究","安徽财经大学","1001-6260"]
["财政研究","中国财政学会","1003-2878"]
["产业经济研究","南京财经大学","1671-9301"]
["当代财经","江西财经大学","1005-0892"]
["当代经济科学","西安交通大学","1002-2848"]
["当代经济研究","吉林财经大学","1005-2674"]
["改革","重庆社会科学院","1003-7543"]
["广东财经大学学报","广东财经大学","1008-2506"]
["贵州财经大学学报","贵州财经大学","2095-5960"]
["国际金融研究","中国国际金融学会等","1006-1029"]
["国际经济评论","中国社会科学院世界经济与政治研究所","1007-0974"]
["国际经贸探索","广东外语外贸大学","1002-0594"]
["国际贸易","中国商务出版社","1002-4999"]
["国际贸易问题","对外经济贸易大学","1002-4670"]
["国际商务（对外经济贸易大学学报）","对外经济贸易大学","1002-4034"]
["河北经贸大学学报","河北经贸大学","1007-2101"]
["宏观经济研究","国家发展和改革委员会宏观经济研究院","1008-2069"]
["会计研究","中国会计学会","1003-2886"]
["江西财经大学学报","江西财经大学","1008-2972"]
["金融经济学研究","广东金融学院","1008-5742"]
["金融论坛","城市金融研究所、中国城市金融学会","1009-9190"]
["金融评论","中国社会科学院金融研究所","1674-7690"]
["金融研究","中国金融学会","1002-7246"]
["经济经纬","河南财经政法大学","1006-1096"]
["经济科学","北京大学","1002-5839"]
["经济理论与经济管理","中国人民大学","1000-596X"]
["经济评论","武汉大学","1005-3425"]
["经济社会体制比较","中共中央编译局","1003-3947"]
["经济问题","山西省社会科学院","14-1058/F"]
["经济问题探索","云南省发展和改革委员会","1006-2912"]
["经济学（季刊）","北京大学中国经济研究中心","2095-1086"]
["经济学动态","中国社会科学院经济研究所","1002-8390"]
["经济学家","西南财经大学等","1003-5656"]
["经济研究","中国社会科学院经济研究所","0577-9154"]
["经济与管理研究","首都经济贸易大学","1000-7636"]
["经济纵横","吉林省社会科学院","1007-7685"]
["南方经济","广东省社会科学院等","1000-6249"]
["南开经济研究","南开大学经济学院","1001-4691"]
["农村经济","四川省农业经济学会","1003-7470"]
["农业技术经济","中国农业技术经济研究会等","1000-6370"]
["农业经济问题","中国农业经济学会等","1000-6389"]
["山西财经大学学报","山西财经大学","1007-9556"]
["商业经济与管理","浙江工商大学","1000-2154"]
["商业研究","哈尔滨商业大学等","1001-148X"]
["上海财经大学学报","上海财经大学","1009-0150"]
["上海经济研究","上海社会科学院经济研究所","1005-1309"]
["审计研究","中国审计学会","1002-4239"]
["审计与经济研究","南京审计大学","1004-4833"]
["世界经济","中国社会科学院世界经济与政治研究所","1002-9621"]
["世界经济文汇","复旦大学","0488-6364"]
["世界经济研究","上海社会科学院世界经济研究所","1007-6964"]
["世界经济与政治论坛","江苏省社会科学院世界经济研究所","1007-1369"]
["数量经济技术经济研究","数量经济与技术经济研究所","1000-3894"]
["税务研究","中国税务杂志社","1003-448X"]
["现代财经(天津财经大学学报)","天津财经大学","1005-1007"]
["现代经济探讨","江苏省社会科学院","1009-2382"]
["现代日本经济","吉林大学、全国日本经济学会","1000-355X"]
["亚太经济","福建社会科学院","1000-6052"]
["云南财经大学学报","云南财经大学","1007-5585"]
["证券市场导报","深圳证劵交易所综合研究所","1005-1589"]
["政治经济学评论","中国人民大学经济学院","1674-7542"]
["中国工业经济","中国社会科学院工业经济研究所","1006-480X"]
["中国经济问题","厦门大学经济研究所","1000-4181"]
["中国农村观察","中国社会科学院农村发展研究所","1006-4583"]
["中国农村经济","中国社会科学院农村发展研究所","1002-8870"]
["中国土地科学","中国土地学会、中国土地勘测规划院","1001-8158"]
["中南财经政法大学学报","中南财经政法大学","1003-5230"]
["中央财经大学学报","中央财经大学","1000-1549"]
["北京行政学院学报","北京行政学院","1008-7621"]
["当代亚太","中国社会科学院亚太与全球战略研究院等","1007-161X"]
["德国研究","同济大学德国问题研究所","1005-4871"]
["东北亚论坛","吉林大学","1003-7411"]
["东南亚研究","暨南大学东南亚研究所","1008-6099"]
["俄罗斯研究","华东师范大学","1009-721X"]
["公共行政评论","广东人民出版社有限公司等","1674-2684"]
["国际观察","上海外国语大学","1005-4812"]
["国际论坛","北京外国语大学","1008-1755"]
["国际问题研究","中国国际问题研究院","0452-8832"]
["国际展望","上海国际问题研究院","1006-1568"]
["国际政治科学","清华大学","2096-1545"]
["国际政治研究","北京大学","1671-4709"]
["国家行政学院学报","国家行政学院","1008-9314"]
["行政论坛","黑龙江省行政学院","1005-460X"]
["湖湘论坛","中共湖南省委党校","1004-3160"]
["江苏行政学院学报","江苏省行政学院","1009-8860"]
["理论探索","中共山西省委党校、山西行政学院","1004-4175"]
["理论探讨","中共黑龙江省委党校","1000-8594"]
["理论学刊","中共山东省委党校","1002-3909"]
["美国研究","中国社会科学院美国研究所、中华美国学会","1002-8986"]
["南亚研究","中国社会科学院亚太与全球战略研究院等","1002-8404"]
["南亚研究季刊","四川大学南亚研究所","1004-1508"]
["南洋问题研究","厦门大学南洋研究院","1003-9856"]
["欧洲研究","中国社会科学院欧洲研究所","1009-0169"]
["日本学刊","中国社会科学院日本研究所、中华日本学会","1002-7874"]
["上海行政学院学报","上海行政学院","1009-3176"]
["世界经济与政治","中国社会科学院世界经济与政治研究所","1006-9550"]
["台湾研究集刊","厦门大学台湾研究院","1002-1590"]
["太平洋学报","中国太平洋学会","1004-8049"]
["探索","中共重庆市委党校","1007-5194"]
["外交评论（外交学院学报）","外交学院","1003-3386"]
["现代国际关系","中国现代国际关系研究院","1000-6192　　"]
["政治学研究","中国社会科学院政治学研究所","1000-3355"]
["中共中央党校学报","中共中央党校","1007-5801"]
["比较法研究","中国政法大学比较法研究所","1004-8561"]
["当代法学","吉林大学","1003-4781"]
["东方法学","上海法学会、上海人民出版社","1674-4039"]
["法律科学（西北政法大学学报）","西北政法大学","1674-5205"]
["法商研究","中南财经政法大学","1672-0393"]
["法学","华东政法大学","1000-4238"]
["法学家","中国人民大学","1005-0221"]
["法学论坛","山东省法学会","1009-8003"]
["法学评论","武汉大学","1004-1303"]
["法学研究","中国社会科学院法学研究所","1002-896X"]
["法学杂志","北京市法学会","1001-618X"]
["法制与社会发展","吉林大学","1006-6128"]
["行政法学研究","中国政法大学","1005-0078"]
["华东政法大学学报","华东政法大学","1008-4622"]
["环球法律评论","中国社会科学院法学研究所","1009-6728"]
["清华法学","清华大学","1673-9280"]
["现代法学","西南政法大学","1001-2397"]
["政法论丛","山东政法学院","1002-6274"]
["政法论坛","中国政法大学","1000-0208"]
["政治与法律","上海社会科学院法学研究所","1005-9512"]
["中国法学","中国法学会","1003-1707"]
["中国刑事法杂志","最高人民检察院检察理论研究所","1007-9017"]
["中外法学","北京大学","1002-4875"]
["妇女研究论丛","全国妇联妇女研究所、中国妇女研究会","1004-2563"]
["青年研究","中国社会科学院社会学研究所","1008-1437"]
["人口学刊","吉林大学","1004-129X"]
["人口研究","中国人民大学","1000-6087"]
["人口与发展","北京大学","1674-1668"]
["人口与经济","首都经济贸易大学","1000-4149"]
["社会","上海大学","1004-8804"]
["社会学研究","中国社会科学院社会学研究所","1002-5936"]
["中国青年研究","中国青少年研究中心、中国青少年研究会","1002-9931"]
["中国人口科学","中国社会科学院人口与劳动经济研究所","1000-7881"]
["广西民族研究","广西壮族自治区民族问题研究中心","1004-454X"]
["中国藏学","中国藏学研究中心","1002-557X"]
["文化遗产","中山大学","1674-0890"]
["世界民族","中国社会科学院民族学与人类学研究所","1006-8287"]
["民俗研究","山东大学","1002-4360"]
["民族研究","中国社会科学院民族学与人类学研究所","0256-1891"]
["西北民族研究","西北民族大学","1001-5558"]
["青海民族研究","青海民族大学民族学与社会学学院等","1005-5681"]
["贵州民族研究","贵州省民族研究所","1002-6959"]
["广西民族大学学报（哲学社会科学版）","广西民族大学","1673-8179"]
["中央民族大学学报（哲学社会科学版）","中央民族大学","1005-8575"]
["中南民族大学学报（人文社会科学版）","中南民族大学","1672-4321"]
["西南民族大学学报（人文社科版）","西南民族大学","1003-2843"]
["云南民族大学学报（哲学社会科学版）","云南民族大学","1672-867X"]
["编辑学报","中国科学技术期刊编辑学会","1001-4314"]
["编辑之友","山西报刊传媒集团有限责任公司","1003-6687"]
["出版发行研究","中国新闻出版研究院","1001-9316"]
["出版科学","湖北省编辑学会、武汉大学","1009-5853"]
["当代传播","新疆日报社、新疆新闻工作者协会","1009-5322"]
["国际新闻界","中国人民大学","1002-5685"]
["科技与出版","清华大学出版社有限公司","1005-0590"]
["现代出版","中国大学出版社协会等","1006-7361"]
["现代传播（中国传媒大学学报）","中国传媒大学","1007-8770"]
["新闻大学","复旦大学","1006-1460"]
["新闻记者","上海社会科学院新闻研究所等","1006-3277"]
["新闻界","四川日报报业集团","1007-2438"]
["新闻与传播研究","中国社会科学院新闻与传播研究所","1005-2577"]
["中国出版","中国新闻出版传媒集团","1002-4166"]
["中国科技期刊研究","中国科学院自然科学期刊编辑研究会等","1002-4166"]
["大学图书馆学报","北京大学、教育部高校图情工作指导委员会","1002-1027"]
["档案学通讯","中国人民大学","1001-201X"]
["档案学研究","中国档案学会","1002-1620"]
["国家图书馆学刊","中国国家图书馆","1009-3125"]
["情报科学","中国科技情报学会、吉林大学","1007-7634"]
["情报理论与实践","中国国防科学技术信息学会等","1000-7490"]
["情报学报","中国科学技术情报学会等","1000-0135"]
["情报杂志","陕西省科学技术信息研究所","1002-1965"]
["情报资料工作","中国人民大学","1002-0314"]
["数据分析与知识发现","中国科学院文献情报中心","2096-3467"]
["图书馆","湖南图书馆","1002-1558"]
["图书馆建设","黑龙江省图书馆学会、黑龙江省图书馆","1004-325X"]
["图书馆论坛","广东省中山图书馆","1002-1167"]
["图书馆学研究","吉林省图书馆","1001-0424"]
["图书馆杂志","上海市图书馆学会、上海图书馆","1000-4254"]
["图书情报工作","中国科学院文献情报中心","0252-3116"]
["图书情报知识","武汉大学信息管理学院","1003-2797"]
["图书与情报","甘肃省图书馆","1003-6938"]
["现代情报","中国科学技术情报学会等","1008-0821"]
["中国图书馆学报","中国图书馆学会、国家图书馆","1001-8867"]
["北京大学教育评论","北京大学","1671-9468"]
["比较教育研究","北京师范大学","1003-7667"]
["电化教育研究","西北师范大学、中国电化教育研究会","1003-1553"]
["复旦教育论坛","复旦大学","1672-0059"]
["高等工程教育研究","华中科技大学等","1001-4233"]
["高等教育研究","中国高教学会高等教育学专业委员会","1000-4203"]
["高教探索","广东省高等教育学会","1673-9760"]
["高校教育管理","江苏大学","1673-8381"]
["国家教育行政学院学报","国家教育行政学院","1672-4038"]
["湖南师范大学教育科学学报","湖南师范大学","1671-6124"]
["华东师范大学学报（教育科学版）","华东师范大学","1000-5560"]
["江苏高教","江苏教育报刊总社","1003-8418"]
["教师教育研究","教育部高校师资培训交流北京中心","1672-5905"]
["教育发展研究","上海市教育科学研究院等","1008-3855"]
["教育科学","辽宁师范大学","1002-8064"]
["教育学报","北京师范大学","1673-1298"]
["教育研究","中国教育科学研究院","1002-5731"]
["教育研究与实验","华中师范大学","1003-160X"]
["教育与经济","华中师范大学等","1003-4870"]
["开放教育研究","上海远程教育集团、上海电视大学","1007-2179"]
["课程·教材·教法","人民教育出版社课程教材研究所","1000-0186"]
["清华大学教育研究","清华大学","1001-4519"]
["全球教育展望","华东师范大学","1009-9670"]
["外国教育研究","东北师范大学","1006-7469"]
["现代大学教育","湖南省高等教育学会、中南大学","1671-1610"]
["现代教育技术","清华大学","1009-8097"]
["现代远程教育研究","四川广播电视大学","1009-5195"]
["学前教育研究","中国学前教育研究会、长沙师范学校","1007-8169"]
["学位与研究生教育","国务院学位委员会","1001-960X"]
["研究生教育研究","中国学位与研究生教育学会等","2095-1663"]
["远程教育杂志","浙江广播电视大学","1672-0008"]
["中国电化教育","中央电化教育馆","1006-9860"]
["中国高等教育","中国教育报刊社","1002-4417"]
["中国高教研究","中国高等教育学会","1004-3667"]
["中国教育学刊","中国教育学会","1002-4808"]
["中国特殊教育","中国教育科学研究院","1007-3728"]
["中国远程教育","国家开放大学","1009-458X"]
["北京体育大学学报","北京体育大学","1007-3612"]
["成都体育学院学报","成都体育学院","1001-9154"]
["上海体育学院学报","上海体育学院","1000-5498"]
["首都体育学院学报","首都体育学院","1009-783X"]
["体育科学","中国体育科学学会","1000-677X"]
["体育学刊","华南理工大学、华南师范大学","1006-7116"]
["体育与科学","江苏省体育科学研究所","1004-4590"]
["天津体育学院学报","天津体育学院","1005-0000"]
["武汉体育学院学报","武汉体育学院","1000-520X"]
["西安体育学院学报","西安体育学院","1001-747X"]
["中国体育科技","国家体育总局体育科学研究所","1002-9826"]
["数理统计与管理","中国现场统计研究会","1002-1566"]
["统计研究","中国统计学会、国家统计局统计科学研究所","1002-4565"]
["统计与决策","湖北省统计局统计科学研究所","1002-6487"]
["统计与信息论坛","西安财经学院、中国统计教育学会高教分会","1007-3116"]
["心理发展与教育","北京师范大学","1001-4918"]
["心理科学","中国心理学会","1671-6981"]
["心理科学进展","中国科学院心理研究所","1671-3710"]
["心理学报","中国心理学会、中国科学院心理研究所","0439-755X"]
["心理学探新","江西师范大学","1003-5184"]
["心理与行为研究","天津师大心理与行为研究中心","1672-0628"]
["中国临床心理学杂志","中国心理卫生协会","1005-3611"]
["城市发展研究","中国城市科学研究会","1006-3862 "]
["城市规划","中国城市规划学会","1674-781X"]
["城市规划学刊","同济大学建筑城规学院","1000-3363"]
["城市问题","北京市社会科学院","1002-2031"]
["地理科学","中国科学院东北地理与农业生态研究所","1000-0690"]
["地理科学进展","中国科学院地理科学与资源研究所","1007-6301"]
["地理学报","中国科学院地理科学与资源研究所","0375-5444"]
["地理研究","中国科学院地理科学与资源研究所","1000-0585"]
["经济地理","中国地理学会、湖南省经济地理研究所","1000-8462"]
["旅游科学","上海师范大学旅游学院","1006-575X"]
["旅游学刊","北京联合大学旅游学院","1002-5006"]
["人文地理","西安外国语大学","1003-2398"]
["干旱区资源与环境","中国自然资源学会等","1003-7578"]
["长江流域资源与环境","中国科学院资源环境科学与技术局等","1004-8227"]
["中国人口·资源与环境","中国可持续发展研究会","1002-2104"]
["资源科学","中国科学院地理科学与资源研究所","1007–7588"]
["自然资源学报","中国自然资源学会等","1000-3037"]
["北京社会科学","北京市社会科学院","1002-3054"]
["东疆学刊","延边大学","1002-2007"]
["东南学术","福建省社会科学界联合会","1008-1569"]
["东岳论丛","山东社会科学院","1003-8353"]
["读书","生活·读书·新知三联书店有限公司","0257-0270"]
["福建论坛（人文社会科学版）","福建社会科学院","1672-6847"]
["甘肃社会科学","甘肃省社会科学院","1003-3637"]
["广东社会科学","广东省社会科学院","1000-114X"]
["贵州社会科学","贵州省社会科学院","1002-6924"]
["国外社会科学","中国社会科学院信息情报研究院","1000-4777"]
["河北学刊","河北省社会科学院","1003-7071"]
["河南社会科学","河南省社会科学界联合会","1007-905X"]
["江海学刊","江苏省社会科学院","1000-856X"]
["江汉论坛","湖北省社会科学院","1003-854X"]
["江淮论坛","安徽省社会科学院","1001-862X"]
["江苏社会科学","江苏社会科学杂志社","1003-8671"]
["江西社会科学","江西省社会科学院","1004-518X"]
["开放时代","广州市社会科学院","1004-2938"]
["南京社会科学","南京市社会科学界联合会等","1001-8263"]
["内蒙古社会科学","内蒙古自治区社会科学院","1003-5281"]
["宁夏社会科学","宁夏社会科学院","1002-0292"]
["青海社会科学","青海省社会科学院","1001-2338"]
["求索","湖南省社会科学院","1001-490X"]
["人民论坛·学术前沿","人民日报社","2095-3461"]
["人文杂志","陕西省社会科学院","0447-662X"]
["山东社会科学","山东省社会科学界联合会","1003-4145"]
["社会科学","上海社会科学院","0257-5833"]
["社会科学辑刊","辽宁社会科学院","1001-6198"]
["社会科学研究","四川省社会科学院","1000-4769"]
["社会科学战线","吉林省社会科学院","0257-0246"]
["思想战线","云南大学","1001-778X"]
["探索与争鸣","上海市社会科学界联合会","1004-2229"]
["天津社会科学","天津社会科学院","1002-3976"]
["文史哲","山东大学","0511-4721"]
["新疆社会科学","新疆社会科学院","1009-5330"]
["学海","江苏省社会科学院","1001-9790"]
["学术界","安徽省社会科学界联合会","1002-1698"]
["学术研究","广东省社会科学界联合会","1000-7326"]
["学术月刊","上海市社会科学界联合会","0439-8041"]
["学习与实践","武汉市社会科学院","1004-0730"]
["学习与探索","黑龙江省社会科学院","1002-462X"]
["云南社会科学","云南省社会科学院","1000-8691"]
["浙江社会科学","浙江省社会科学界联合会","1004-2253"]
["浙江学刊","浙江省社会科学院","1003-420X"]
["中国高校社会科学","教育部高校社会科学发展研究中心","2095-5804"]
["中国社会科学","中国社会科学院","1002-4921"]
["中州学刊","河南省社会科学院","1003-0751"]
["安徽大学学报（哲学社会科学版）","安徽大学","1001-5019"]
["安徽师范大学学报（人文社会科学版）","安徽师范大学","1001-2435"]
["北京大学学报（哲学社会科学版）","北京大学","1000-5919"]
["北京工商大学学报（社会科学版）","北京工商大学","1009-6116"]
["北京理工大学学报（社会科学版）","北京理工大学","1009-3370"]
["北京联合大学学报（人文社会科学版）","北京联合大学","1672-4917"]
["北京师范大学学报（社会科学版）","北京师范大学","1002-0209"]
["大连理工大学学报（社会科学版）","大连理工大学","1008-407X"]
["东北大学学报（社会科学版）","东北大学","1008-3758"]
["东北师大学报（哲学社会科学版）","东北师范大学","1001-6201"]
["东南大学学报（哲学社会科学版）","东南大学","1671-511X"]
["福建师范大学学报（哲学社会科学版）","福建师范大学","1000-5285"]
["复旦学报（社会科学版）","复旦大学","0257-0289"]
["海南大学学报（人文社会科学版）","海南大学","1004-1710"]
["河海大学学报（哲学社会科学版）","河海大学","1671-4970"]
["河南大学学报（社会科学版）","河南大学","1000-5242"]
["河南师范大学学报（哲学社会科学版）","河南师范大学","1000-2359"]
["湖北大学学报（哲学社会科学版）","湖北大学","1001-4799"]
["湖南大学学报（社会科学版）","湖南大学","1008-1763"]
["湖南科技大学学报（社会科学版）","湖南科技大学","1672-7835"]
["湖南师范大学社会科学学报","湖南师范大学","1000-2529"]
["华东师范大学学报（哲学社会科学版）","华东师范大学","1000-5579"]
["华南农业大学学报（社会科学版）","华南农业大学","1672-0202"]
["华南师范大学学报（社会科学版）","华南师范大学","1000-5455"]
["华中科技大学学报（社会科学版）","华中科技大学","1671-7023"]
["华中农业大学学报（社会科学版）","华中农业大学","1008-3456"]
["华中师范大学学报（人文社会科学版）","华中师范大学","1000-2456"]
["吉林大学社会科学学报","吉林大学","0257-2834"]
["吉首大学学报（社会科学版）","吉首大学","1007-4074"]
["暨南学报（哲学社会科学版）","暨南大学","1000-5072"]
["江西师范大学学报（哲学社会科学版）","江西师范大学","1000-579X"]
["兰州大学学报（社会科学版）","兰州大学","1000-2804"]
["南京大学学报（哲学·人文科学·社会科学）","南京大学","1007-7278"]
["南京农业大学学报（社会科学版）","南京农业大学","1671-7465"]
["南京师大学报（社会科学版）","南京师范大学","1001-4608"]
["南开学报（哲学社会科学版）","南开大学","1001-4667"]
["南通大学学报（社会科学版）","南通大学","1673-2359"]
["齐鲁学刊","曲阜师范大学","1001-022X"]
["清华大学学报（哲学社会科学版）","清华大学","1000-0062"]
["求是学刊","黑龙江大学","1000-7504"]
["厦门大学学报（哲学社会科学版）","厦门大学","0438-0460"]
["山东大学学报（哲学社会科学版）","山东大学","1001-9839"]
["山西大学学报（哲学社会科学版）","山西大学","1000-5935"]
["上海大学学报（社会科学版）","上海大学","1007-6522"]
["上海交通大学学报（哲学社会科学版）","上海交通大学","1008-7095"]
["上海师范大学学报（哲学社会科学版）","上海师范大学","1004-8634"]
["首都师范大学学报（社会科学版）","首都师范大学","1004-9142"]
["四川大学学报（哲学社会科学版）","四川大学","1006-0766"]
["四川师范大学学报（社会科学版）","四川师范大学","1000-5315"]
["苏州大学学报（哲学社会科学版）","苏州大学","1001-4403"]
["武汉大学学报（哲学社会科学版）","武汉大学","1672-7320"]
["西安交通大学学报（社会科学版）","西安交通大学","1008-245X"]
["西北农林科技大学学报（社会科学版）","西北农林科技大学","1009-9107"]
["西北师大学报（社会科学版）","西北师范大学","1001-9162"]
["西藏大学学报（社会科学版）","西藏大学","1005-5738"]
["西南大学学报（社会科学版）","西南大学","1673-9844"]
["湘潭大学学报（哲学社会科学版）","湘潭大学","1001-5981"]
["新疆大学学报（哲学人文社会科学版）","新疆大学","1000-2820"]
["新疆师范大学学报（哲学社会科学版）","新疆师范大学","1005-9245"]
["烟台大学学报（哲学社会科学版）","烟台大学","1002-3194"]
["云南师范大学学报（哲学社会科学版）","云南师范大学","1000-5110"]
["浙江大学学报（人文社会科学版）","浙江大学","1008-942X"]
["浙江工商大学学报","浙江工商大学","1009-1505"]
["郑州大学学报（哲学社会科学版）","郑州大学","1001-8204"]
["中国地质大学学报（社会科学版）","中国地质大学","1671-0169"]
["中国农业大学学报（社会科学版）","中国农业大学","1009-508X"]
["中国人民大学学报","中国人民大学","1000-5420"]
["中南大学学报（社会科学版）","中南大学","1008-4061"]
["中山大学学报（社会科学版）","中山大学","1000-9639"]
["重庆大学学报（社会科学版）","重庆大学","1008-5831"]